Workbook

Sheet 教育扶持 (2)
A1: 化隆县“十三五”脱贫攻坚规划教育扶持专项工程建设项目及投资表
A2: 序号 | B2: 乡（镇）、村名 | C2: 教育扶持人、次 | G2: 建设性质 | H2: 建设年限 | I2: 规划内容与规模 | J2: 投资（万元）
C3: 小计 | D3: 本科生 | E3: 大专生 | F3: 高职校
A4: 全县合计 | C4: =C5+C11+C20+C46+C52 -> 5213 | D4: =D5+D11+D20+D46+D52 -> 2667 | E4: =E5+E11+E20+E46+E52 -> 1388 | F4: =F5+F11+F20+F46+F52 -> 1158 | J4: =J5+J11+J20+J46+J52 -> 5276.866
A5: 一 | B5: 困难学生补助 | C5: =SUM(C6:C10) -> 5213 | D5: =SUM(D6:D10) -> 2667 | E5: =SUM(E6:E10) -> 1388 | F5: =SUM(F6:F10) -> 1158 | J5: =SUM(J6:J10) -> 1849.75
A6: 1 | B6: 2016年教育补助费 | C6: =SUM(D6:F6) -> 1047 | D6: 496 | E6: 295 | F6: 256 | G6: 新建 | I6: 贫困学生救助 | J6: 352.05
A7: 2 | B7: 2017年教育补助费 | C7: =SUM(D7:F7) -> 986 | D7: 521 | E7: 253 | F7: 212 | G7: 新建 | I7: 贫困学生救助 | J7: 350.7
A8: 3 | B8: 2018年教育补助费 | C8: =SUM(D8:F8) -> 1010 | D8: 530 | E8: 260 | F8: 220 | G8: 新建 | I8: 贫困学生救助 | J8: 356
A9: 4 | B9: 2019年教育补助费 | C9: =SUM(D9:F9) -> 1060 | D9: 550 | E9: 280 | F9: 230 | G9: 新建 | I9: 贫困学生救助 | J9: 379
A10: 5 | B10: 2020年教育补助费 | C10: =SUM(D10:F10) -> 1110 | D10: 570 | E10: 300 | F10: 240 | G10: 新建 | I10: 贫困学生救助 | J10: 412
A11: 二 | B11: 2016年教育扶持项目 | J11: =SUM(J12:J19) -> 393.756
A12: 1 | B12: 巴燕镇什介列学校 | G12: 新建 | H12: 2016 | I12: 附属设施：新建围墙30m，饮水管网50m；购置设备：取暖设备1套、监控设施8处，太阳能路灯2盏。 | J12: 21.976
A13: 2 | B13: 昂思多镇牙什扎学校 | G13: 新建 | H13: 2016 | I13: 购置设备：取暖设备1套、课桌凳30张、办公桌2张、监控设施8处，太阳能路灯2盏。 | J13: 7.76
A14: 3 | B14: 昂思多镇尕什加学校 | G14: 新建 | H14: 2016 | I14: 购置设备：取暖设备1套、课桌凳20张、办公桌2张、监控设施8处，太阳能路灯2盏。 | J14: 7.48
A15: 4 | B15: 查甫乡跃洞学校 | G15: 维修改造 | H15: 2016 | I15: 维修校舍300m2。附属设施：新建围墙220m，硬化地坪2800m2、大门1座；购置设备：取暖设备1套、课桌凳75张、办公桌6张、监控设施16处、太阳能路灯4盏。 | J15: 129.64
A16: 5 | B16: 石大仓乡沙让学校 | G16: 新建 | H16: 2016 | I16: 购置设备：取暖设备1套、课桌凳50张、办公桌4张、监控设施8处，太阳能路灯2盏。 | J16: 23.16
A17: 6 | B17: 甘都镇东六学校 | G17: 新建 | H17: 2016 | I17: 购置设备：取暖设备1套、课桌凳30张、办公桌4张、监控设施8处，太阳能路灯2盏。 | J17: 14.2
A18: 7 | B18: 二塘乡科却学校 | G18: 维修改造 | H18: 2016 | I18: 维修校舍550m2。附属设施：硬化地坪2500m2、大门1座、饮水管网80m；购置设备：取暖设备1套、课桌凳70张、办公桌7张、监控设施8处、太阳能路灯2盏。 | J18: 109.84
A19: 8 | B19: 群科镇公义学校 | G19: 维修改造 | H19: 2016 | I19: 维修校舍240m2。附属设施：硬化地坪200m2、大门1座；购置设备：取暖设备1套、课桌凳50张、监控设施32处、太阳能路灯4盏。 | J19: 79.7
A20: 三 | B20: 2017年教育扶持项目 | J20: =SUM(J21:J45) -> 1659
A21: 1 | B21: 巴燕镇金家庄学校 | G21: 维修改造 | H21: 2017 | I21: 维修校舍853m2。购置取暖设施1套。 | J21: 89.77
A22: 2 | B22: 巴燕镇上拉干学校 | G22: 新建 | H22: 2017 | I22: 购置取暖设施1套。 | J22: 10
A23: 3 | B23: 巴燕镇马场学校 | G23: 新建 | H23: 2017 | I23: 新建附属设施；购置取暖设施1套、课桌凳30张、办公桌2张、监控设施8处。 | J23: 56.62
A24: 4 | B24: 巴燕镇上卷学校 | G24: 新建 | H24: 2017 | I24: 新建校舍200m2。新建附属设施；购置取暖设施1套。 | J24: 81.5
A25: 5 | B25: 昂思多镇关相口学校 | G25: 新建 | H25: 2017 | I25: 购置取暖设施1套、课桌凳20张、办公桌2张、监控设施8处。 | J25: 14.42
A26: 6 | B26: 昂思多镇德加落忙学校 | G26: 新建 | H26: 2017 | I26: 新建附属设施；购置取暖设施1套、课桌凳20张、办公桌2张、监控设施8处。 | J26: 28.44
A27: 7 | B27: 甘都镇甘都街学校 | G27: 新建 | H27: 2017 | I27: 购置取暖设施1套、办公桌4张、监控设施16处。 | J27: 48.4
A28: 8 | B28: 甘都镇关巴学校 | G28: 新建 | H28: 2017 | I28: 购置取暖设施1套、课桌凳60张。 | J28: 17.58
A29: 9 | B29: 群科镇安达其哈学校 | G29: 新建 | H29: 2017 | I29: 购置取暖设施1套、课桌凳40张、办公桌4张、监控设施8处。 | J29: 13.6
A30: 10 | B30: 群科镇雪什藏学校 | G30: 新建 | H30: 2017 | I30: 购置取暖设施1套、课桌凳560张、办公桌25张。 | J30: 119.18
A31: 11 | B31: 扎巴镇四哈宁学校 | G31: 新建 | H31: 2017 | I31: 购置取暖设施1套、课桌凳70张、办公桌4张。 | J31: 11.42
A32: 12 | B32: 扎巴镇南滩学校 | G32: 新建 | H32: 2017 | I32: 新建校舍1200m2。新建附属设施；购置取暖设施1套、课桌凳150张、办公桌10张。 | J32: 418.1
... A45: 25 | B45: 德恒隆乡德一学校 | G45: 新建 | H45: 2017 | I45: 购置课桌凳240张、办公桌15张、监控设施8处。 | J45: 11.22
A46: 四 | B46: 2018年教育扶持项目 | J46: =SUM(J47:J51) -> 811.36
A47: 1 | B47: 化隆县第四中学 | G47: 新建 | H47: 2018 | I47: 购置取暖设施1套。 | J47: 320
A48: 2 | B48: 金源乡旦麻学校 | G48: 新建 | H48: 2018 | I48: 新建校舍180m2。附属设施：新建围墙180m，硬化地坪1600m2。 | J48: 85.2
A49: 3 | B49: 群科镇舍仁学校 | G49: 新建 | H49: 2018 | I49: 新建校舍300m2。附属设施：新建围墙300m，硬化地坪4500m2、大门1座，饮水管网350m。 | J49: 171
A50: 4 | B50: 查甫乡东台学校 | G50: 新建 | H50: 2018 | I50: 新建校舍180m2。附属设施：新建围墙108m，硬化地坪600m2、大门1座；购置取暖设施1套。 | J50: 70.26
A51: 5 | B51: 德恒隆乡卡什代搬迁村学校 | G51: 新建 | H51: 2018 | I51: 新建校舍400m2。附属设施：新建围墙180m，硬化地坪1600m2。大门1座，饮水管网100m；购置取暖设施1套。 | J51: 164.9
A52: 五 | B52: 2019年教育扶持项目 | J52: =SUM(J53:J65) -> 563
...

Sheet 交通 (2)
A1: 化隆县“十三五”脱贫攻坚规划交通专项工程建设项目及投资表
A2: 序号 | B2: 乡（镇）、村名 | C2: 项目受益贫困户 | E2: 建设性质 | F2: 建设年限 | G2: 规划内容与规模 | H2: 投资 （万元） | I2: 资金来源（万元）
C3: 户数 | D3: 人数 | I3: 专项资金 | J3: 国开行贷款
A4: 全县合计 | H4: 7435.29 | I4: 3954.09 | J4: 3481.495
A5: 一 | B5: 金源乡 | H5: =SUM(H6:H10) -> 399.43 | I5: =SUM(I6:I10) -> 346.48 | J5: =SUM(J6:J10) -> 52.95
A6: 1 | B6: 日古村 | E6: 新建 | F6: 2016 | G6: 完成村道硬化支线7.8km。 | H6: =SUM(I6:J6) -> 85.8 | I6: 85.8
A7: 2 | B7: 尖科 | E7: 改造 | F7: 2017 | G7: 完成村道硬化1km。 | H7: =SUM(I7:J7) -> 115 | I7: 100 | J7: 15
A8: 3 | B8: 知海买村 | E8: 新建 | F8: 2016 | G8: 完成村道硬化主线4km。 | H8: =SUM(I8:J8) -> 80.68 | I8: 80.68
A9: 4 | B9: 下什堂 | E9: 改造、新建 | F9: 2018 | G9: 完成村道硬化3.2km。其中改造主线2.2km，支线1km。 | H9: =SUM(I9:J9) -> 108.5 | I9: 80 | J9: 28.5
A10: 5 | B10: 安关群哇 | E10: 改造 | F10: 2018 | G10: 完成村道硬化主线改造0.45km。 | H10: =SUM(I10:J10) -> 9.45 | J10: 9.45
A11: 二 | B11: 扎巴镇 | H11: =SUM(H12:H21) -> 830.65 | I11: =SUM(I12:I21) -> 649 | J11: =SUM(J12:J21) -> 181.65
A12: 1 | B12: 四哈宁 | E12: 改造、新建 | F12: 2017 | G12: 完成村道硬化7km。其中改造主线4km，支线3km。 | H12: =SUM(I12:J12) -> 180 | I12: 120 | J12: 60
A13: 2 | B13: 南滩 | E13: 新建 | F13: 2017 | G13: 完成村道硬化主线1.6km。 | H13: =SUM(I13:J13) -> 24 | I13: 24
A14: 3 | B14: 曲先昂 | E14: 新建 | F14: 2017 | G14: 完成村道硬化6.30km。其中主线2km，支线4.3km。 | H14: =SUM(I14:J14) -> 77.3 | I14: 77.3
A15: 4 | B15: 挖隆沟 | E15: 新建 | F15: 2017 | G15: 完成村道硬化3.9km。其中主线1.2km，支线2.7km。 | H15: =SUM(I15:J15) -> 47.7 | I15: 47.7
A16: 5 | B16: 本康沟村 | E16: 改造、新建 | F16: 2018 | G16: 完成村道硬化3.2km。其中改造主线3km，支线0.63km。桥梁1座17m。 | H16: =SUM(I16:J16) -> 110.45 | I16: 80 | J16: 30.45
A17: 6 | B17: 结拉村 | E17: 新建 | F17: 2018 | G17: 完成村道硬化支线5.521km。圆管涵2道。 | H17: =SUM(I17:J17) -> 30 | J17: 30
A18: 7 | B18: 大拉曲村 | E18: 新建 | F18: 2018 | G18: 完成村道硬化支线3.9km。圆管涵5道。 | H18: =SUM(I18:J18) -> 330 | I18: 300 | J18: 30
A19: 8 | B19: 扎巴四村 | E19: 新建 | F19: 2018 | G19: 完成村道硬化支线1.8km。圆管涵5道。 | H19: =SUM(I19:J19) -> 7.5 | J19: 7.5
A20: 9 | B20: 扎巴三村 | E20: 新建 | F20: 2018 | G20: 完成村道硬化支线1.2km。 | H20: =SUM(I20:J20) -> 9 | J20: 9
A21: 10 | B21: 阴坡村 | E21: 新建 | F21: 2018 | G21: 完成村道硬化支线1.7km。桥梁1座17m。圆管涵1道。 | H21: =SUM(I21:J21) -> 14.7 | J21: 14.7
A22: 11 | B22: 黄麻村 | E22: 改造、新建 | F22: 2019 | G22: 完成村道硬化3.379km。其中改造主线2.95km，新建支线0.4km。桥梁1座。 | H22: 126.035 | J22: 126.035
A23: 12 | B23: 关沙村 | E23: 新建 | F23: 2019 | G23: 桥梁2座 | H23: 87 | J23: 87
A24: 三 | B24: 牙什尕镇 | H24: =SUM(H25:H29) -> 239.38 | I24: =SUM(I25:I29) -> 135.43 | J24: =SUM(J25:J29) -> 103.95
A25: 1 | B25: 塘一村 | E25: 新建 | F25: 2016 | G25: 完成村道硬化2.23km。其中主线0.838km，支线1.392km；圆管涵1道。 | H25: =SUM(I25:J25) -> 39.63 | I25: 39.63
A26: 2 | B26: 参二 | E26: 改造 | F26: 2017 | G26: 完成村道硬化支线改造1.2km | H26: =SUM(I26:J26) -> 13.2 | J26: 13.2
A27: 3 | B27: 塘三 | E27: 改造、新建 | F27: 2018 | G27: 完成村道硬化2.7km。其中改造主线2km，支线0.7km。桥梁1座17m。圆管涵2道。 | H27: =SUM(I27:J27) -> 31.5 | J27: 31.5
A28: 4 | B28: 参果滩三村 | E28: 改造、新建 | F28: 2018 | G28: 完成村道硬化3km。其中改造主线2km，支线1km。桥梁1座17m。维修改造12m桥梁1座，圆管涵2道。 | H28: =SUM(I28:J28) -> 81 | I28: 45 | J28: 36
A29: 5 | B29: 哇尔江 | E29: 改造、新建 | F29: 2018 | G29: 完成村道硬化1.75km。其中改造主线1.6km，支线0.15km。桥梁1座17m。 | H29: =SUM(I29:J29) -> 74.05 | I29: 50.8 | J29: 23.25
A30: 6 | B30: 牙什尕村 | E30: 改造、新建 | F30: 2019 | G30: 完成村道硬化3.685km。其中改造主线0.5km，新建支线3.185km。 | H30: 61.775 | J30: 61.775
A31: 四 | B31: 塔加乡 | H31: =SUM(H32:H34) -> 313.45 | I31: =SUM(I32:I34) -> 203.45 | J31: =SUM(J32:J34) -> 110
A32: 1 | B32: 德扎村 | E32: 新建 | F32: 2016 | G32: 完成村道硬化5.95km。其中主线0.38km，支线5.57km。 | H32: =SUM(I32:J32) -> 83.45 | I32: 83.45
A33: 2 | B33: 贡什加 | E33: 新建 | F33: 2017 | G33: 完成村道硬化支线10km | H33: =SUM(I33:J33) -> 230 | I33: 120 | J33: 110
A34: 3 | B34: 曹旦么村 | E34: 新建 | F34: 2018 | G34: 完成村道硬化支线0.6km
A35: 4 | B35: 塔一村 | E35: 新建 | F35: 2019 | G35: 完成村道硬化支线9.78km。 | H35: 146.7 | J35: 146.7
A36: 五 | B36: 群科镇 | H36: =SUM(H37:H43) -> 259.4 | I36: =SUM(I37:I43) -> 191 | J36: =SUM(J37:J43) -> 225.4
A37: 1 | B37: 安达其哈 | E37: 改造 | F37: 2017 | G37: 完成村道硬化主线改造0.6km。 | H37: 9 | J37: 9
A38: 2 | B38: 水库滩 | E38: 新建 | F38: 2017 | G38: 完成村道硬化13.6km。其中主线6.80km，支线6.80km。 | H38: 116.8 | I38: 89 | J38: 116.8
A39: 3 | B39: 雪什藏 | E39: 改造 | F39: 2017 | G39: 完成村道硬化主线改造0.5km。 | H39: 7.5 | J39: 7.5
A40: 4 | B40: 乙沙二村 | E40: 改造、新建 | F40: 2018 | G40: 完成村道硬化2.8km。其中改造主线2km，支线0.8km。圆管涵6道。 | H40: 39 | J40: 39
...

Sheet 电力 (2)
A1: 化隆县“十三五”脱贫攻坚规划电力专项工程建设项目及投资表
A2: 序号 | B2: 乡（镇）、村名 | C2: 是否贫困村 | D2: 项目受益贫困户 | F2: 建设性质 | G2: 建设年限 | H2: 规划内容与规模 | I2: 投资（万元）
D3: 户数 | E3: 人数
A4: 全县合计 | D4: =D5+D10+D24+D32+D35+D42+D56+D64+D74+D89+D95+D106+D115+D123+D133+D140+D149+D158 -> 0 | E4: =E5+E10+E24+E32+E35+E42+E56+E64+E74+E89+E95+E106+E115+E123+E133+E140+E149+E158 -> 0 | I4: =I5+I10+I24+I32+I35+I42+I56+I64+I74+I89+I95+I106+I115+I123+I133+I140+I149+I158 -> 23421.727
A5: 一 | B5: 金源乡 | D5: =SUM(D6:D8) -> 0 | E5: =SUM(E6:E8) -> 0 | H5: =SUM(H6:H8) -> 0 | I5: 337.99
A6: 1 | B6: 日古村 | F6: 新建 | G6: 2016 | H6: 新建10kv输电线路0.375km，0.4kv低压线路1.686km，配备100kva变压器1台。 | I6: 81.85
A7: 2 | B7: 安关群哇村 | F7: 改造 | G7: 2018 | H7: 10kv输电线路0.639km，0.4kv低压线路3.322km，配备250kva变压器2台。照明下户83户、动力下户5户。 | I7: 90.85
A8: 3 | B8: 下仕堂村 | F8: 改造 | G8: 2018 | H8: 10kv输电线路0.03km，0.4kv低压线路2.635km，配备310kva变压器3台。照明下户128户、动力下户1户。 | I8: 87.74
A9: 4 | B9: 扎西庄 | F9: 改造 | G9: 2016 | H9: 10kv输电线路0.52km，0.4kv低压线路3.99km，配备200kva变压器1台。照明下户112户、动力下户22户。 | I9: 77.55
A10: 二 | B10: 扎巴镇 | D10: =SUM(D11:D21) -> 0 | E10: =SUM(E11:E21) -> 0 | I10: 2424.6796
A11: 1 | B11: 下洛乎藏村 | F11: 新建 | G11: 2016 | H11: 新建10kv输电线路1.268km，0.4kv低压线路2.554km，配备变压器2台。照明下户224户、动力下户1户。 | I11: 152.6
A12: 2 | B12: 东拉卡村 | F12: 新建 | G12: 2016 | H12: 新建10kv输电线路0.904km，0.4kv低压线路2.725km，配备800kva变压器2台。照明下户241户、动力下户2户。 | I12: 150
A13: 3 | B13: 知海买村 | F13: 新建 | G13: 2016 | H13: 新建10kv输电线路0.904km，0.4kv低压线路2.725km，配备100kva变压器2台。照明下户57户、动力下户1户。 | I13: 93.2396
A14: 4 | B14: 曲先昂村 | F14: 新建 | G14: 2017 | H14: 新建10kv输电线路0.39km，0.4kv低压线路4.93km，配备100kva变压器2台。照明下户120户、动力下户7户。 | I14: 216.77
A15: 5 | B15: 南滩村 | F15: 新建 | G15: 2017 | H15: 新建10kv输电线路0.50km，0.4kv低压线路3.18km，配备300kva变压器2台。照明下户111户、动力下户10户。 | I15: 182.01
A16: 6 | B16: 黄麻村 | F16: 新建 | G16: 2018 | H16: 新建10kv输电线路0.28km，0.4kv低压线路8.573km，配备800kva变压器4台。照明下户180户、动力下户3户。 | I16: 252.4
A17: 7 | B17: 结拉村 | F17: 新建 | G17: 2018 | H17: 新建10kv输电线路0.292km，0.4kv低压线路3.50km，配备600kva变压器2台。照明下户56户、动力下户1户。 | I17: 157.666
A18: 8 | B18: 本康沟村 | F18: 新建 | G18: 2018 | H18: 新建10kv输电线路1.365km，0.4kv低压线路4.382km，配备300kva变压器2台。照明下户98户、动力下户3户。 | I18: 222.7606
A19: 9 | B19: 大拉曲村 | F19: 新建 | G19: 2018 | H19: 新建10kv输电线路1.055km，0.4kv低压线路8.482km，配备1000kva变压器5台。照明下户251户、动力下户3户。 | I19: 349.45
A20: 10 | B20: 关沙村 | F20: 新建 | G20: 2018 | H20: 新建10kv输电线路3.083km，0.4kv低压线路6.713km，配备400kva变压器3台。照明下户125户。 | I20: 301.2542
A21: 11 | B21: 扎巴四村 | F21: 新建 | G21: 2018 | H21: 新建10kv输电线路0.515km，0.4kv低压线路2.7km，配备400kva变压器2台。照明下户147户、动力下户1户。 | I21: 188.2792
A22: 12 | B22: 扎让村 | F22: 改造 | G22: 2016 | H22: 0.4kv低压线路2.48km，配备200kva变压器1台。照明下户121户、动力下户4户。 | I22: 55.71
A23: 13 | B23: 完干滩村 | F23: 改造 | G23: 2016 | H23: 10kv输电线路1.07km，0.4kv低压线路3.99km，配备200kva变压器6台。照明下户651户、动力下户32户。 | I23: 102.54
A24: 三 | B24: 牙什尕镇 | D24: =SUM(D25:D31) -> 0 | E24: =SUM(E25:E31) -> 0 | I24: =SUM(I25:I31) -> 1558.1659
A25: 1 | B25: 唐一村 | F25: 新建 | G25: 2016 | H25: 新建10kv输电线路0.699km，0.4kv低压线路4.948km，配备350kva变压器3台。照明下户152户、动力下户17户。 | I25: 237.62
A26: 2 | B26: 参果滩二村 | F26: 新建 | G26: 2017 | H26: 新建10kv输电线路0.90km，0.4kv低压线路7.34km，配备300kva变压器3台。照明下户146户、动力下户4户。 | I26: 228.03
A27: 3 | B27: 唐沙三村 | F27: 新建 | G27: 2018 | H27: 新建10kv输电线路0.55km，0.4kv低压线路5.548km，配备280kva变压器3台。照明下户117户、动力下户4户。 | I27: 232.4085
A28: 4 | B28: 参果滩三村 | F28: 新建 | G28: 2018 | H28: 新建10kv输电线路3.076km，0.4kv低压线路7.184km，配备500kva变压器4台。照明下户140户、动力下户1户。 | I28: 321.52
A29: 5 | B29: 牙什尕村1#、2#台区 | F29: 改造 | G29: 2018 | H29: 10kv输电线路1.105km，0.4kv低压线路7.245km，配备900kva变压器5台。照明下户297户、动力下户2户。 | I29: 281.35
A30: 6 | B30: 牙什尕村五社台区 | F30: 改造 | G30: 2018 | H30: 10kv输电线路0.11km，0.4kv低压线路1.41km，配备200kva变压器1台。照明下户90户、动力下户4户。 | I30: 85.2774
A31: 7 | B31: 哇尔江村 | F31: 改造 | G31: 2018 | H31: 10kv输电线路1.051km，0.4kv低压线路3.388km，配备250kva变压器3台。照明下户95户。 | I31: 171.96
A32: 四 | B32: 塔加乡 | D32: =SUM(D33:D34) -> 0 | E32: =SUM(E33:E34) -> 0 | I32: =SUM(I33:I34) -> 311.4003
A33: 1 | B33: 德扎村 | F33: 新建 | G33: 2016 | H33: 新建10kv输电线路1.268km，0.4kv低压线路2.727km，配备200kva变压器2台。照明下户68户、动力下户3户。 | I33: 132.1
A34: 2 | B34: 塔一村 | F34: 改造 | G34: 2018 | H34: 10kv输电线路0.15km，0.4kv低压线路4.804km，配备300kva变压器3台。照明下户114户、动力下户2户。 | I34: 179.3003
A35: 五 | B35: 甘都镇 | D35: =SUM(D36:D37) -> 0 | E35: =SUM(E36:E37) -> 0 | I35: 654.9323
A36: 1 | B36: 东六村 | F36: 新建 | G36: 2016 | H36: 新建10kv输电线路0.904km，0.4kv低压线路3.177km，配备300kva变压器2台。照明下户111户、动力下户10户。 | I36: 182.01
A37: 2 | B37: 阿化村 | F37: 新建 | G37: 2018 | H37: 新建10kv输电线路0.292km，0.4kv低压线路4.351km，配备400kva变压器2台。照明下户136户、动力下户1户。 | I37: 184.6723
A38: 3 | B38: 东七村 | F38: 改造 | G38: 2016 | H38: 10kv输电线路0.12km，0.4kv低压线路1.24km，配备200kva变压器1台。照明下户87户、动力下户3户。 | I38: 65.17
A39: 4 | B39: 东四村 | F39: 改造 | G39: 2016 | H39: 10kv输电线路0.42km，0.4kv低压线路0.89km，配备200kva变压器1台。照明下户95户、动力下户2户。 | I39: 37.67
A40: 5 | B40: 桥头村 | F40: 改造 | G40: 2016 | H40: 10kv输电线路0.24km，0.4kv低压线路0.65km，配备200kva变压器2台。照明下户127户、动力下户5户。 | I40: 98.97
...

Sheet 产业扶持
A1: 化隆县“十三五”脱贫攻坚规划产业发展建设项目及投资表
A2: 序号 | B2: 乡（镇）、村名 | C2: 项目受益贫困户 | E2: 建设性质 | F2: 建设年限 | G2: 规划内容与规模 | H2: 投资（万元）
C3: 户数 | D3: 人数
A4: 全县合计 | H4: =H5+H10 -> 13553.23
A5: 一 | B5: 旅游扶贫产业项目 | D5: =SUM(D6:D9) -> 664 | H5: =SUM(H6:H9) -> 4383.49
A6: 1 | B6: 群科镇安达其哈村旅游扶贫项目 | D6: 274 | E6: 新建 | F6: 2016 | G6: 安达其哈村（1、建设30亩面积的藏族风情园一处(由村“三委”、村民及经营方协商解决)风情园承担20户贫困户脱贫任务;2、建设30亩的回族民俗园一处(由村“三委”、村民及经营方协商解决），民俗园承担20户的脱贫任务；3、建设10户农家乐（藏族3户、回族7户）承担10户贫困户脱贫任务;4、建设具有当地民俗的大门1个项目投资20万和所需，路灯30盏项目投资30万。 | H6: 300
A7: 2 | B7: 群科镇科木其村旅游扶贫项目 | D7: 265 | E7: 新建 | F7: 2016 | G7: 科木其村（1、整合50亩建设用地(由村“三委”、村民及经营方协商解决)；2、建设具有当地民俗的大门1个和所需围墙；3、建设40间房屋(含住宿、餐饮、卫生间、厨房、值班室等用房)，约1200平米，达到接待200名游客的能力；4、院内建设民俗用品、艺术品等文化宣传展示中心一座，约200平米；5、院前建设中型停车场一座；6、院后建设梨树、杏树等观光园一座，并搭建所需围栏；6、配备所需用品。） 2、建设30亩的回族民俗园一处(由村“三委”、村民及经营方协商解决），民俗园承担20户的脱贫任务； 3、建设10户农家乐（藏族3户、回族7户）承担10户贫困户脱贫任务; 4、建设具有当地民俗的大门1个项目投资20万和所需，路灯30盏项目投资30万。 | H7: 300
A8: 3 | B8: 甘都镇阿河滩村旅游扶贫项目 | D8: 125 | E8: 新建 | F8: 2017 | G8: 建设具有当地居民特色的集旅游、休闲、度假、农家特色风味餐饮小吃于一体的民族风情园 | H8: 300
A9: 4 | B9: 扎巴镇本康沟村旅游扶贫项目 | E9: 新建 | F9: 2018 | G9: 构建以现代农业园、农家乐、清真文化体验、民俗文化体验、民俗演绎、乡村民宿、特色工坊、户外运动、射击运动、休闲娱乐户花海等一体的服务产业。 | H9: 3483.49
A10: 二 | B10: 特色产业发展项目 | C10: =C11+C24+C33+C44+C56+C66+C86+C97+C105+C123+C131+C154+C170+C183+C193+C212+C234+C251+C254 -> 4101 | D10: =D11+D24+D33+D44+D56+D66+D86+D97+D105+D123+D131+D154+D170+D183+D193+D212+D234+D251+D254 -> 16714 | H10: =H11+H24+H33+H44+H56+H66+H86+H97+H105+H123+H131+H154+H170+H183+H193+H212+H234+H251+H254 -> 9169.74
A11: （一） | B11: 谢家滩乡 | C11: =SUM(C12:C23) -> 158 | D11: =SUM(D12:D23) -> 660 | H11: =SUM(H12:H23) -> 356.4
A12: 1 | B12: 拉扎村 | C12: 20 | D12: 90 | E12: 新建 | F12: 2017 | G12: 引进藏香猪（母猪）、种猪、改扩建猪舍、采购饲料等发展养殖业 | H12: 48.6
A13: 2 | B13: 西门泉村 | C13: 8 | D13: 27 | E13: 新建 | F13: 2017 | G13: 引进二元能繁母猪，种猪、长白仔猪、改扩建猪舍、采购饲料等发展养殖业 | H13: 14.58
A14: 3 | B14: 牙合村 | C14: 10 | D14: 33 | E14: 新建 | F14: 2017 | G14: 贫困户+合作社形式进行养殖，统一销售；引进西门塔儿、黑白花牛30头 | H14: 17.82
A15: 4 | B15: 韩家窑村 | C15: 23 | D15: 101 | E15: 新建 | F15: 2018 | G15: 23户101人，将产业扶持资金54.54万元用于购买西门塔尔牛、饲料等发展养殖业 | H15: 54.54
A16: 5 | B16: 阴坡村 | C16: 21 | D16: 100 | E16: 新建 | F16: 2018 | G16: 21户100人，将产业扶持资金54万元用于购买西门塔尔牛、饲料发展养殖业 | H16: 54
A17: 6 | B17: 尔多其那村 | C17: 10 | D17: 46 | E17: 新建 | F17: 2018 | G17: 10户46人，将产业扶持资金24.84万元用于购买西门塔尔牛、饲料等发展养殖业 | H17: 24.84
A18: 7 | B18: 合群村 | C18: 3 | D18: 13 | E18: 新建 | F18: 2018 | G18: 3户13人,将产业扶持资金7.02万元用于购买西门塔尔牛、饲料等发展养殖业 | H18: 7.02
A19: 8 | B19: 窑隆村 | C19: 19 | D19: 87 | E19: 新建 | F19: 2019 | G19: 项目户19户87人，产业扶持资金46.98万元，养殖牛。 | H19: 46.98
A20: 9 | B20: 谢家滩村 | C20: 16 | D20: 53 | E20: 新建 | F20: 2019 | G20: 项目户16户53人，产业扶持资金28.62万元。其中，13户47人资金25.38万元养殖牛；3户10人资金5.4万元养殖猪。 | H20: 28.62
A21: 10 | B21: 九道湾村 | C21: 7 | D21: 27 | E21: 新建 | F21: 2019 | G21: 项目户7户27人，产业扶持资金14.58万元，养殖牛。 | H21: 14.58
A22: 11 | B22: 吊沟村 | C22: 6 | D22: 26 | E22: 新建 | F22: 2019 | G22: 项目户6户26人，产业扶持资金14.04万元，养殖牛。 | H22: 14.04
A23: 12 | B23: 下河滩村 | C23: 15 | D23: 57 | E23: 新建 | F23: 2019 | G23: 项目户15户57人，产业扶持资金30.78万元，养殖牛。 | H23: 30.78
A24: （二） | B24: 石大仓乡 | H24: =SUM(H25:H32) -> 132.3
A25: 1 | B25: 沙让村 | D25: 61 | E25: 新建 | F25: 2016 | G25: “合作社+农户”模式发展肉牛养殖 | H25: 32.94
A26: 2 | B26: 文加山村 | D26: 54 | E26: 新建 | F26: 2016 | G26: “合作社+农户”模式发展肉牛养殖 | H26: 29.16
A27: 3 | B27: 支哈塘村 | C27: 4 | D27: 23 | E27: 新建 | F27: 2017 | G27: 购买黑白花牛进行分户养殖 | H27: 12.42
A28: 5 | B28: 台一村 | C28: 2 | D28: 7 | E28: 新建 | F28: 2017 | G28: 购买黑白花牛进行分户养殖 | H28: 3.78
A29: 6 | B29: 台二村 | C29: 3 | D29: 6 | E29: 新建 | F29: 2017 | G29: 购买黑白花牛进行分户养殖 | H29: 3.24
A30: 7 | B30: 大加沿村 | C30: 10 | D30: 26 | E30: 新建 | F30: 2018 | G30: 10户26人，产业扶持项目资金14.04万元，用于购置良种黑白花牛发展养殖业 | H30: 14.04
A31: 10 | B31: 大岭村 | C31: 10 | D31: 50 | E31: 新建 | F31: 2018 | G31: 10户50人，产业扶持项目资金27万元，用于购置良种黑白花牛发展养殖业 | H31: 27
A32: 11 | B32: 小金源村 | C32: 5 | D32: 18 | E32: 新建 | F32: 2019 | G32: 项目户5户18人，产业扶持资金9.72万元，购置黑白花母牛进行分户养殖。 | H32: 9.72
A33: （三） | B33: 二塘乡 | C33: =SUM(C34:C43) -> 148 | D33: =SUM(D34:D43) -> 621 | H33: =SUM(H34:H43) -> 335.34
A34: 1 | B34: 隆欠村 | C34: 10 | D34: 53 | E34: 新建 | F34: 2017 | G34: 养殖西门塔尔若干头、黑白花若干头进行分户养殖 | H34: 28.62
A35: 2 | B35: 格许村 | C35: 11 | D35: 40 | E35: 新建 | F35: 2017 | G35: 养殖西门塔尔若干头、黑白花若干头进行分户养殖 | H35: 21.6
A36: 3 | B36: 角扎村 | C36: 8 | D36: 28 | E36: 新建 | F36: 2017 | G36: 养殖西门塔尔若干头、黑白花若干头进行分户养殖 | H36: 15.12
A37: 4 | B37: 工一村 | C37: 14 | D37: 51 | E37: 新建 | F37: 2017 | G37: 14户54人实施养殖生猪项目；1户3人购置农机具租种马铃薯。 | H37: 27.54
A38: 5 | B38: 红牙合村 | C38: 11 | D38: 51 | E38: 新建 | F38: 2018 | G38: 4户23人将项目资金12.42万元用于购买当地黑白花牛和能繁母牛发展养殖业；2户11人将项目资金5.94万元用于购置细毛羊、能繁母羊发展养殖业；3户11人将项目资金5.94万元用于投资开拉面馆；2户6人将项目资金3.24万元用于经营运输业。 | H38: 27.54
A39: 6 | B39: 香里胡拉村 | C39: 11 | D39: 49 | E39: 新建 | F39: 2018 | G39: 9户38人将项目资金20.52万元用于分散购置当地黄牛、能繁黄牛发展养殖业；1户6人将项目资金3.24万元用于投入其女儿所开的小卖店；1户5人将项目资金2.7万元用于投资入股至本村村民周尚兰所经营的小卖店。 | H39: 26.46
A40: 7 | B40: 三塘村 | C40: 26 | D40: 105 | E40: 新建 | F40: 2018 | G40: 20户82人将项目资金44.28万元用于购置西门塔尔、黑白花能繁母牛发展养殖业；6户23人将项目资金12.42万元用于购置细毛羊、能繁母羊发展养殖业 | H40: 56.7
...

Sheet 资产收益
A1: 化隆县“十三五”脱贫资产收益项目及投资表
A2: 序号 | B2: 乡（镇）、村名 | C2: 项目受益贫困户 | E2: 建设性质 | F2: 建设年限 | G2: 规划内容与规模 | H2: 投资（万元）
C3: 户数 | D3: 人数
A4: 全县合计 | C4: =C5+C8 -> 1617 | D4: =D5+D8 -> 12335 | H4: =H5+H8 -> 8160.82
A5: 一 | B5: 扶贫产业园项目 | C5: =SUM(C6:C7) -> 436 | D5: =SUM(D6:D7) -> 1866 | H5: =SUM(H6:H7) -> 2500
A6: 1 | B6: 青海省扶贫拉面产业园 | C6: 151 | D6: 741 | E6: 新建 | F6: 2016 | G6: 将项目资金1000万元以投资固定收益分红方式投入到青海源隆拉面产业集团股份有限公司用于流动资金，资金使用期限为三年，三年期满后再另行协商续签事宜，在合同期间，按照“负赢不负亏”的原则，由该公司按每年不低于6%且逐年增加0.3%的收益率进行分红，并将分红上缴至县扶贫局，统筹安排用于扩大产业园辐射相关村的互助社资金。同时，该企业要提供不低于1000万元的财产担保，并进行司法公证。涉及6个村（阿藏吾具、日古村、贡什加村、列村、塔麻村、 | H6: 1000
A7: 2 | B7: 化隆县50万只蛋肉鸡养殖省级扶贫产业园建设项目 | C7: 285 | D7: 1125 | E7: 新建 | F7: 2017 | G7: 将项目资金1500万元以投资固定收益分红方式投入到化隆县群科绿禽农牧开发有限公司用于流动资金，资金使用期限为三年，三年期满后再另行协商续签事宜，在合同期间，按照“负赢不负亏”的原则，由该公司按每年不低于6%且逐年增加0.3%的收益率进行分红，并将分红资金按年度一次性上缴至县扶贫局，统筹安排用于扩大产业园辐射相关村的互助社资金。同时，该企业要提供不低于1500万元的财产担保，并进行司法公证。涉及9个村（拉卡村、松赛村、德一村、西后加村、安达其哈村、水库滩村、水库滩村、沙一村、参果滩二村） | H7: 1500
A8: 二 | B8: 特色产业发展项目 | C8: =C9+C16+C20+C28+C32+C45+C65+C68+C87+C90+C94+C100+C105+C109+C121+C135+C158+C78 -> 1181 | D8: =D9+D16+D20+D28+D32+D45+D65+D68+D87+D90+D94+D100+D105+D109+D121+D135+D158+D78 -> 10469 | H8: =H9+H16+H20+H28+H32+H45+H65+H68+H87+H90+H94+H100+H105+H109+H121+H135+H158+H78 -> 5660.82
A9: （一） | B9: 谢家滩乡 | C9: =SUM(C10:C15) -> 15 | D9: =SUM(D10:D15) -> 243 | H9: =SUM(H10:H15) -> 131.22
A10: 1 | B10: 公扎村 | D10: 29 | E10: 新建 | F10: 2016 | G10: 购买巴燕镇综合农贸市场摊位1个 | H10: 15.66
A11: 2 | B11: 卡昂村 | D11: 29 | E11: 新建 | F11: 2016 | G11: 购买巴燕镇综合农贸市场摊位2个 | H11: 15.66
A12: 3 | B12: 朱家湾村 | D12: 64 | E12: 新建 | F12: 2016 | G12: 购买巴燕镇综合农贸市场摊位2个 | H12: 34.56
A13: 4 | B13: 丁家湾村 | D13: 35 | E13: 新建 | F13: 2016 | G13: 将项目资金投入到村村成立的辉成种养殖专业合作社，以6%进行分红 | H13: 18.9
A14: 5 | B14: 卷康村 | D14: 30 | E14: 新建 | F14: 2016 | G14: 将项目资金投入到村村成立的兴明种养殖专业合作社，以6%进行分红 | H14: 16.2
A15: 6 | B15: 马塘村 | C15: 15 | D15: 56 | E15: 新建 | F15: 2017 | G15: 全村28户贫困户106人共同在巴燕镇农贸综合市场购置铺面1处，产权共有利益共享，共同经营共同分红。 | H15: 30.24
A16: （二） | B16: 石大仓乡 | C16: =SUM(C17:C19) -> 0 | D16: =SUM(D17:D19) -> 360 | H16: =SUM(H17:H19) -> 194.4
A17: 1 | B17: 项加吾具村 | D17: 62 | E17: 新建 | F17: 2016 | G17: 购置商铺 | H17: 33.48
A18: 2 | B18: 乡旦庄村 | D18: 110 | E18: 新建 | F18: 2016 | G18: 购置商铺 | H18: 59.4
A19: 3 | B19: 拉卡村、香塔村、高跃村 | D19: 188 | E19: 新建 | F19: 2016 | G19: 购置商铺 | H19: 101.52
A20: （三） | B20: 二塘乡 | C20: =SUM(C21:C27) -> 27 | D20: =SUM(D21:D27) -> 549 | H20: =SUM(H21:H27) -> 296.46
A21: 1 | B21: 科却村 | D21: 98 | E21: 新建 | F21: 2016 | G21: 将项目资金投入到西宁宁通市政工程有限公司，以10%分红 | H21: 52.92
A22: 2 | B22: 尕什加村 | D22: 61 | E22: 新建 | F22: 2016 | G22: 将项目资金投入到化隆县华泰餐饮开发有限公司发展餐饮业，以10%进行分红 | H22: 32.94
A23: 3 | B23: 工二村 | D23: 70 | E23: 新建 | F23: 2016 | G23: 将项目资金投入到村村人成立的西宁宁通市政工程有限公司，以10%进行分红 | H23: 37.8
A24: 4 | B24: 上滩村 | D24: 120 | E24: 新建 | F24: 2016 | G24: 将项目资金投入到化隆县华泰餐饮开发有限公司发展餐饮业，以10%进行分红 | H24: 64.8
A25: 5 | B25: 二塘村 | D25: 101 | E25: 新建 | F25: 2016 | G25: 将项目资金投入到化隆县华泰餐饮开发有限公司发展餐饮业，以10%进行分红 | H25: 54.54
A26: 6 | B26: 二塘沟村 | C26: 6 | D26: 22 | E26: 新建 | F26: 2017 | G26: 购买化隆县综合农贸市场1个摊位进行出租分红 | H26: 11.88
A27: 7 | B27: 尕吾山村 | C27: 21 | D27: 77 | E27: 新建 | F27: 2019 | G27: 项目户21户77人，产业扶持资金41.58万元，入股化隆县二塘乡尕吾山原生态土鸡养殖合作社。 | H27: 41.58
A28: （四） | B28: 金源乡 | C28: =SUM(C29:C31) -> 0 | D28: =SUM(D29:D31) -> 180 | H28: =SUM(H29:H31) -> 97.2
A29: 1 | B29: 日古村 | D29: 58 | E29: 新建 | F29: 2016 | G29: 本村成立耐寒牦牛养殖合作社，所得收益分配给贫困人口 | H29: 31.32
A30: 2 | B30: 雄哇村 | D30: 58 | E30: 新建 | F30: 2016 | G30: 本村成立耐寒牦牛养殖合作社，所得收益分配给贫困人口 | H30: 31.32
A31: 3 | B31: 土哇仓村 | D31: 64 | E31: 新建 | F31: 2016 | G31: 本村成立耐寒牦牛养殖合作社，所得收益分配给贫困人口 | H31: 34.56
A32: （五） | B32: 德恒隆乡 | C32: =SUM(C33:C44) -> 263 | D32: =SUM(D33:D44) -> 1615 | H32: =SUM(H33:H44) -> 872.1
A33: 1 | B33: 黄吾具村 | D33: 192 | E33: 新建 | F33: 2016 | G33: 购买群科新区商铺108平方米 | H33: 103.68
A34: 2 | B34: 卡什代村 | D34: 40 | E34: 新建 | F34: 2016 | G34: 将项目资金投入到村村村民经营的拉面馆，以10%进行分红 | H34: 21.6
A35: 3 | B35: 支乎具村 | D35: 181 | E35: 新建 | F35: 2016 | G35: 购置商铺 | H35: 97.74
A36: 4 | B36: 牙曲滩村 | C36: 21 | D36: 95 | E36: 新建 | F36: 2017 | G36: 投资化隆县德隆建筑服务有限公司 | H36: 51.3
A37: 5 | B37: 西后加村 | C37: 29 | D37: 121 | E37: 新建 | F37: 2017 | G37: 新建畜棚2栋1200㎡（病畜隔离舍100㎡），青贮池750㎡，购置肉羊900只；新建病死畜无害化处理一套64m³（4m×4m×4m），堆粪场200㎡；新建饲料房40㎡、办公用房40㎡、兽医室20㎡、消毒室20㎡、消毒池40m³；修建专用供电设施及线路300米，供水线路200米，污水管道200米，进场道路100米，大门一座，围墙310米；购置粉碎机1台套，铡草机1台、兽医及防疫设备一套 | H37: 65.34
A38: 6 | B38: 拉村 | C38: 19 | D38: 70 | E38: 新建 | F38: 2017 | G38: 在群科新区购买化隆县金沙洲房地产开发有限公司铺面35㎡（1.1万元/㎡），产权归团结村建档立卡贫困户 | H38: 37.8
A39: 7 | B39: 哇西村村 | D39: 51 | E39: 新建 | F39: 2016 | G39: 民族服饰加工 | H39: 27.54
A40: 8 | B40: 徳一村 | C40: 56 | D40: 265 | E40: 新建 | F40: 2017 | G40: 在群科新区购买化隆县金沙洲房地产开发有限公司铺面195㎡（1.1万元/㎡），产权归徳一村建档立卡贫困户 | H40: 143.1
...

Sheet 转移就业
A1: 化隆县“十三五”脱贫攻坚规划转移就业建设项目及投资表
A2: 序号 | B2: 乡（镇）、村名 | C2: 项目受益贫困户 | E2: 建设性质 | F2: 建设年限 | G2: 规划内容与规模 | H2: 投资 （万元）
C3: 户数 | D3: 人数
A4: 全县合计 | D4: =D5+D10+D15+D20 -> 35981 | H4: =H5+H10+H15+H20 -> 14612.88
A5: 一 | B5: 劳动技术、技能培训 | D5: =SUM(D6:D9) -> 5000 | G5: 规划在2016年-2019年培训劳动技术、技能5000人次 | H5: =SUM(H6:H9) -> 400
A6: 1 | B6: 2016年劳动技术、技能培训 | D6: 1000 | F6: 2016 | G6: 规划培训劳动技术、技能1000人次 | H6: =D6*0.08 -> 80
A7: 2 | B7: 2017年劳动技术、技能培训 | D7: 2000 | F7: 2017 | G7: 规划培训劳动技术、技能2000人次 | H7: =D7*0.08 -> 160
A8: 3 | B8: 2018年劳动技术、技能培训 | D8: 500 | F8: 2018 | G8: 规划培训劳动技术、技能500人次 | H8: =D8*0.08 -> 40
A9: 4 | B9: 2019年劳动技术、技能培训 | D9: 1500 | F9: 2019 | G9: 规划培训劳动技术、技能1500人次 | H9: =D9*0.08 -> 120
A10: 二 | B10: “带薪在岗实训+创业” | D10: =SUM(D11:D14) -> 17866 | H10: =SUM(H11:H14) -> 8564
A11: 1 | B11: 2016年实训+创业项目 | C11: 1020 | D11: 4586 | F11: 2016 | G11: “带薪在岗实训+创业”1020人，带动贫困人口4586人 | H11: 2040
A12: 2 | B12: 2017年实训+创业项目 | C12: 1262 | D12: 5080 | F12: 2017 | G12: “带薪在岗实训+创业”1262人，带动贫困人口5080人 | H12: 2524
A13: 3 | B13: 2018年实训+创业项目 | C13: 1000 | D13: 4100 | F13: 2018 | G13: “带薪在岗实训+创业”1000人，带动贫困人口4100人 | H13: 2000
A14: 4 | B14: 2019年实训+创业项目 | C14: 1000 | D14: 4100 | F14: 2019 | G14: “带薪在岗实训+创业”1000人，带动贫困人口4100人 | H14: 2000
A15: 三 | B15: “雨露计划” | D15: =SUM(D16:D19) -> 9115 | H15: =SUM(H16:H19) -> 346
A16: 1 | B16: 2017年雨露计划培训项目 | C16: 382 | D16: 1620 | F16: 2017 | G16: “雨露计划”培训382人，带动1620人 | H16: 76
A17: 2 | B17: 2018年雨露计划培训项目 | C17: 650 | D17: 2645 | F17: 2018 | G17: “雨露计划”培训650人，带动2645人 | H17: 90
A18: 3 | B18: 2019年雨露计划培训项目 | C18: 600 | D18: 2450 | F18: 2019 | G18: “雨露计划”培训600人，带动2450人 | H18: 90
A19: 4 | B19: 2020年雨露计划培训项目 | C19: 600 | D19: 2400 | F19: 2020 | G19: “雨露计划”培训600人，带动2400人 | H19: 90
A20: 四 | B20: 生态管护员岗位 | D20: =SUM(D21:D25) -> 4000 | H20: =SUM(H21:H25) -> 5302.88
A21: 1 | B21: 2016年设立生态管护员岗位 | D21: 220 | F21: 2016 | G21: 共设立生态管护员岗位272个；解决贫苦户劳动力272名。 | H21: 475.68
A22: 2 | B22: 2017年设立生态管护员岗位 | D22: 720 | F22: 2017 | G22: 共设立生态管护员岗位772个；解决贫苦户劳动力772名。 | H22: 975.68
A23: 3 | B23: 2018年设立生态管护员岗位 | D23: 1020 | F23: 2018 | G23: 共设立生态管护员岗位1076个；解决贫苦户劳动力1076名。 | H23: 1283.84
A24: 4 | B24: 2019年设立生态管护员岗位 | D24: 1020 | F24: 2019 | G24: 共设立生态管护员岗位1076个；解决贫苦户劳动力1076名。 | H24: 1283.84
A25: 5 | B25: 2020年设立生态管护员岗位 | D25: 1020 | F25: 2020 | G25: 共设立生态管护员岗位1076个；解决贫苦户劳动力1076名。 | H25: 1283.84

Sheet 易地搬迁
A1: 化隆县“十三五”脱贫攻坚规划易地扶贫搬迁建设项目及投资表
A2: 序号 | B2: 乡（镇）、村名 | C2: 建设年限 | D2: 搬迁规模 | F2: 其中：建档立卡贫困户 | H2: 规划内容与规模 | I2: 投资（万元）
D3: 户 | E3: 人 | F3: 户 | G3: 人
A4: 全县合计 | I4: =I5+I10+I20+I33+I36+I38+I41+I44+I51+I57+I59 -> 19117.791
A5: 一 | B5: 初麻乡 | D5: =SUM(D6+D7+D8+D9) -> 269 | E5: =SUM(E6+E7+E8+E9) -> 1131 | F5: =SUM(F6+F7+F8+F9) -> 71 | G5: =SUM(G6+G7+G8+G9) -> 327 | I5: 1685
A6: 1 | B6: 塔麻村 | C6: 2016 | D6: 124 | E6: 562 | F6: 25 | G6: 132 | I6: 795.5
A7: 2 | B7: 初一村二社 | C7: 2016 | D7: 24 | E7: 111 | F7: 9 | G7: 42 | I7: 141.5
A8: 3 | B8: 拉许村 | C8: 2017 | D8: 64 | E8: 254 | F8: 20 | G8: 83 | I8: 398
A9: 4 | B9: 下恰藏村 | C9: 2017 | D9: 57 | E9: 204 | F9: 17 | G9: 70 | I9: 350
A10: 二 | B10: 阿什努乡 | D10: =D11+D12+D13+D14+D15+D16+D17+D18+D19 -> 451 | E10: =E11+E12+E13+E14+E15+E16+E17+E18+E19 -> 1619 | F10: =F11+F12+F13+F14+F15+F16+F17+F18+F19 -> 44 | G10: =G11+G12+G13+G14+G15+G16+G17+G18+G19 -> 158 | I10: 2328.5
A11: 1 | B11: 松赛村 | C11: 2016 | D11: 113 | E11: 409 | F11: 19 | G11: 68 | I11: 613
A12: 2 | B12: 纳哈隆村 | C12: 2017 | D12: 176 | E12: 641 | F12: 4 | G12: 13 | I12: 814
A13: 3 | B13: 拉卡 | C13: 2017 | D13: 95 | E13: 328 | F13: 12 | G13: 35 | I13: 493.5
A14: 4 | B14: 若兰村若兰社 | C14: 2018 | D14: 61 | E14: 210 | F14: 3 | G14: 11 | I14: 299.5
A15: 5 | B15: 阿一村 | C15: 2019 | D15: 1 | E15: 5 | F15: 1 | G15: 5 | I15: =G15*3.5 -> 17.5
A16: 6 | B16: 阿二村 | C16: 2019 | D16: 1 | E16: 6 | F16: 1 | G16: 6 | I16: =G16*3.5 -> 21
A17: 7 | B17: 白加村 | C17: 2019 | D17: 2 | E17: 11 | F17: 2 | G17: 11 | I17: =G17*3.5 -> 38.5
A18: 8 | B18: 尕加村 | C18: 2019 | D18: 1 | E18: 5 | F18: 1 | G18: 5 | I18: =G18*3.5 -> 17.5
A19: 9 | B19: 全吉村 | C19: 2019 | D19: 1 | E19: 4 | F19: 1 | G19: 4 | I19: =G19*3.5 -> 14
A20: 三 | B20: 德恒隆乡 | D20: 1349 | E20: 5393 | F20: 332 | G20: 1427 | I20: 8241
A21: 1 | B21: 黄吾具村 | C21: 2016 | D21: 172 | E21: 645 | F21: 59 | G21: 247 | I21: 1098.5
A22: 2 | B22: 支乎具村 | C22: 2016 | D22: 157 | E22: 653 | F22: 46 | G22: 201 | I22: 959.5
A23: 3 | B23: 若索 | C23: 2017 | D23: 150 | E23: 528 | F23: 57 | G23: 235 | I23: 988.5
A24: 4 | B24: 卡什代村 | C24: 2017 | D24: 219 | E24: 985 | F24: 15 | G24: 84 | I24: 1163.5
A25: 5 | B25: 团结村 | C25: 2017 | D25: 257 | E25: 985 | F25: 11 | G25: 46 | I25: 1217
A26: 6 | B26: 石乃海 | C26: 2017 | D26: 116 | E26: 486 | F26: 28 | G26: 120 | I26: 676
A27: 7 | B27: 东加村 | C27: 2017 | D27: 98 | E27: 346 | F27: 48 | G27: 187 | I27: 705
A28: 8 | B28: 列村 | C28: 2017 | D28: 83 | E28: 327 | F28: 32 | G28: 132 | I28: 549.5
A29: 9 | B29: 措扎村 | C29: 2018 | D29: 76 | E29: 335 | F29: 15 | G29: 72 | I29: 523
A30: 10 | B30: 德一村 | C30: 2019 | D30: 10 | E30: 47 | F30: 10 | G30: 47 | I30: =G30*3.5 -> 164.5
A31: 11 | B31: 德二村 | C31: 2019 | D31: 9 | E31: 47 | F31: 9 | G31: 47 | I31: =G31*3.5 -> 164.5
A32: 12 | B32: 安措村 | C32: 2019 | D32: 2 | E32: 9 | F32: 2 | G32: 9 | I32: =G32*3.5 -> 31.5
A33: 四 | B33: 金源乡 | D33: 97 | E33: 428 | F33: 29 | G33: 119 | I33: 833.791
A34: 1 | B34: 阿吾卜具村藏东社 | C34: 2016 | D34: 28 | E34: 130 | F34: 4 | G34: 18 | I34: 188
A35: 2 | B35: 旦麻村 | C35: 2016 | D35: 69 | E35: 298 | F35: 25 | G35: 101 | I35: 645.791
A36: 五 | B36: 二塘乡 | D36: 18 | E36: 56 | F36: 5 | G36: 15 | I36: 108.5
A37: 1 | B37: 尕吾山村 | C37: 2016 | D37: 18 | E37: 56 | F37: 5 | G37: 15 | I37: 108.5
A38: 六 | B38: 昂思多镇 | D38: 101 | E38: 376 | F38: 24 | G38: 80 | I38: 822.5
A39: 1 | B39: 玉麦街村 | C39: 2016 | D39: 62 | E39: 244 | F39: 19 | G39: 63 | I39: 569.5
A40: 2 | B40: 尕么甫村六社 | C40: 2017 | D40: 39 | E40: 132 | F40: 5 | G40: 17 | I40: 253
...

Sheet 林业生态
A1: 化隆县“十三五”脱贫攻坚规划林业生态建设项目及投资表
A2: 序号 | B2: 项目名称 | C2: 建设性质 | D2: 建设年限 | E2: 规划内容与规模 | F2: 投资 （万元）
A4: 全县合计 | F4: =F5+F10+F17 -> 4204.88
A5: 一 | B5: 村庄绿化项目 | F5: =SUM(F6:F9) -> 820
A6: 1 | B6: 贫困村基础设施建设“回头看”村庄绿化项目 | C6: 新建 | D6: 2016 | E6: 雄先乡洛麻村，昂思多镇牙什扎村，巴燕镇什杰列村。对3个贫困村进行村庄绿化 | F6: 90
A7: 2 | B7: 贫困村基础设施建设村庄绿化项目 | C7: 新建 | D7: 2017 | E7: 雄先乡乙麻昂村，扎巴镇南滩村，石大仓乡支哈堂村，巴燕镇上拉干村，谢家滩乡拉扎村和马塘村，二塘乡格许村和隆欠村。8个贫困村进行村庄绿化 | F7: 240
A8: 3 | B8: 贫困村基础设施建设村庄绿化项目 | C8: 新建 | D8: 2018 | E8: 广场绿化16个村：金源乡下什堂村和安关群哇村，扎巴镇结拉村和阴坡村，牙什尕镇塘三村，群科镇舍仁村，德恒隆乡哇加村，甘都镇上四合生村和西滩村，阿什努乡纳哈隆村，昂思多镇拉昂村，查甫乡东台村，谢家滩乡阴坡村，初麻乡滩果村，石大仓乡吉加村，大加沿村。 村庄绿化11个村：扎巴镇扎三村、扎四村和大拉曲村，阿什努乡阿藏吾具村，昂思多镇山卡拉村和公拜岭村，雄先乡巴么堂村、主洞村和其大吉村，谢家滩乡韩家窑村，巴燕镇卜隆村。 易地搬迁村庄绿化3个村：巴燕镇金家庄村，昂思多镇尕么甫村，德恒隆乡卡时代村。对30个贫困村进行村庄绿化。其中广场绿化16个村，村庄绿化11个村，易地搬迁村庄绿化3个村。 | F8: 300
A9: 4 | B9: 贫困村基础设施建设村庄绿化项目 | C9: 新建 | D9: 2019 | E9: 广场绿化2个村：扎巴镇黄麻村和关沙村。 村庄绿化7个村：昂思多镇山先群村和尕吾塘村，阿什努乡羊隆村和刘什东村，巴燕镇水乃亥村，查甫乡上曲加村，二塘乡尕吾山村。 易地搬迁村庄绿化2个村：金源乡旦麻村，昂思多镇玉麦街村。对11个贫困村进行村庄绿化。其中广场绿化2个村，村庄绿化7个村，易地搬迁村庄绿化2个村。 | F9: 190
A10: 二 | B10: 经济林建设项目 | F10: =SUM(F11:F16) -> 1973.96
A11: 1 | B11: 2017年贫困村基础设施建设杂果经济里建设项目 | C11: 新建 | D11: 2017 | E11: 群科镇雪什藏村、安达其哈村和水库滩村，甘都镇甘都街村和关巴村，昂思多镇玉麦街村，李家峡管委会黄河岸村。在7个贫困村营造集中连片杂果经济林150亩、1274户房前屋后栽植15691株。 | F11: 372.6
A12: 2 | B12: 2017年贫困村基础设施建设杏树栽植项目 | C12: 新建 | D12: 2017 | E12: 群科镇雪什藏村和安达其哈村。在涉及群科杏花节沿线2个贫困村栽植杏树、梨树14700株。 | F12: 617.07
A13: 3 | B13: 2017年贫困村基础设施建设杏花节彩门项目 | C13: 新建 | D13: 2017 | E13: 群科镇安达其哈村。在群科镇安达其哈村徒步旅游线路建设彩门1座。 | F13: 21.54
A14: 4 | B14: 2017年贫困村基础设施建设育苗项目 | C14: 新建 | D14: 2017 | E14: 巴燕镇上拉干村和金家庄村，雄先乡沙素么村和乙麻昂村。在开展育苗225亩 | F14: 265.86
A15: 5 | B15: 2018年贫困村基础设施建设杂果经济林项目 | C15: 新建 | D15: 2018 | E15: 牙什尕镇参三村和哇尔江村，群科镇乙沙二村、若加村、科木其村和舍仁村，甘都镇牙路乎村。在7个贫困村营造集中连片杂果经济林460亩、1618户房前屋后栽植23016株。 | F15: 393.21
A16: 6 | B16: 2019年贫困村基础设施建设杂果经济林建设项目 | C16: 新建 | D16: 2019 | E16: 牙什尕镇牙什尕村，群科镇格尔麻村，雄先乡下米乃海村，甘都镇东七村和阿化村，昂思多镇先群村。在6个贫困村营造集中连片杂果经济林200亩、1592户房前屋后栽植18620株。 | F16: 303.68
A17: 三 | B17: 沙漠化治理及荒山治理项目 | F17: =SUM(F18:F21) -> 1410.92
A18: 1 | B18: 2017年贫困村基础设施建设沙棘林标准化改造项目 | C18: 新建 | D18: 2017 | E18: 谢家滩乡拉扎村和马塘村，石大仓乡石大仓村，初麻乡塔麻村，沙连堡乡沙一村。改造6个贫困村的低效沙棘林5400亩 | F18: 540
A19: 2 | B19: 2018年贫困村基础设施建设沙棘林标准化改造项目 | C19: 新建 | D19: 2018 | E19: 扎巴镇本康沟村、大拉曲村和阴坡村，阿什努乡纳哈隆村，昂思多镇具乎扎村、公拜岭村、拉昂村、香加岭村和若么岭村，查甫乡东台村，谢家滩乡韩家窑村，石大仓乡关藏村，沙连堡乡冶二村和古浪村。改造14个贫困村的低效沙棘林5400亩 | F19: 561.82
A20: 3 | B20: 2019年贫困村基础设施建设荒山造林项目 | C20: 新建 | D20: 2019 | E20: 扎巴镇黄麻村，塔加乡塔一村，沙连堡乡下塔加村。在3个贫困村人工造林1280亩 | F20: 160
A21: 4 | B21: 2019年贫困村基础设施建设沙棘林标准化改造项目 | C21: 新建 | D21: 2019 | E21: 阿什努乡刘什东村，沙连堡乡下塔加村。改造2个贫困村的低效沙棘林2130亩 | F21: 149.1

Sheet 低保兜底
A1: 化隆县“十三五”脱贫攻坚规划低保兜底脱贫投资表
A2: 序号 | B2: 项目名称 | C2: 小计 | D2: 项目扶持户 | G2: 建设年限 | H2: 投资（万元）
D3: 一般贫困人口 | E3: 低保贫困人口 | F3: 低保户人口
A4: 全县合计 | H4: =SUM(H5:H9) -> 22693.123
A5: 一 | B5: 2016低保金发放 | C5: =SUM(D5:F5) -> 36326 | D5: 21638 | E5: 7630 | F5: 7058 | G5: 2016 | H5: =D5*0.04+E5*0.2106+F5*0.25 -> 4236.898
A6: 二 | B6: 2017低保金发放 | C6: =SUM(D6:F6) -> 27766 | D6: 15900 | E6: 5881 | F6: 5985 | G6: 2017 | H6: =D6*0.096+E6*0.24+F6*0.297 -> 4715.385
A7: 三 | B7: 2018低保金发放 | C7: =SUM(D7:F7) -> 18787 | D7: 9750 | E7: 3200 | F7: 5837 | G7: 2018 | H7: =D7*0.18+E7*0.3+F7*0.36 -> 4816.32
A8: 四 | B8: 2019低保金发放 | C8: =SUM(D8:F8) -> 14687 | D8: 3099 | E8: 4454 | F8: 7134 | G8: 2019 | H8: =D8*0.18+E8*0.3+F8*0.36 -> 4462.26
A9: 五 | B9: 2020低保金发放 | C9: =SUM(D9:F9) -> 14687 | D9: 3099 | E9: 4454 | F9: 7134 | G9: 2020 | H9: =D9*0.18+E9*0.3+F9*0.36 -> 4462.26

Sheet 水利
A1: 化隆县“十三五”脱贫攻坚规划水利专项工程建设项目及投资表
A2: 序号 | B2: 乡（镇）、村名 | C2: 是否贫困村 | D2: 项目受益贫困户 | F2: 建设性质 | G2: 建设年限 | H2: 规划内容与规模 | I2: 投资（万元）
D3: 户数 | E3: 人数
A4: 全县合计 | G4: 2016-2019 | I4: =I5+I127 -> 11708.433
A5: 一 | B5: 人畜饮水安全 | I5: =I6+I13+I24+I35+I39+I45+I50+I55+I63+I67+I78+I86+I91+I96+I102+I110+I113+I125 -> 3898.1806
A6: 1 | B6: 阿什努乡 | I6: =SUM(I7:I12) -> 148.84382
A7: 1.1 | B7: 赛什库村 | F7: 改造 | G7: 2016 | H7: 维修10T蓄水池1座、闸阀井4座、村内各级管路φ32UPVC管共1.6km；φ50UPVC管0.25km；φ40UPVC管0.1km | I7: 15.133442
A8: 1.2 | B8: 拉卡村 | F8: 新建 | G8: 2017 | H8: 修建截水廊道1座，阀门井1座，管道7公里。入户井40座 | I8: 84.804393
A9: 1.3 | B9: 松赛村 | F9: 新建 | G9: 2017 | H9: 修建50吨蓄水池2座，入户井26座。 | I9: 19.695474
A10: 1.4 | B10: 阿藏吾具村 | F10: 新建 | G10: 2018 | H10: 蓄水池1座 | I10: 3.358456
A11: 1.5 | B11: 羊隆村 | F11: 新建 | G11: 2019 | H11: 新建引水管300m,30t蓄水池1座。 | I11: 4.463728
A12: 1.6 | B12: 刘什洞村 | F12: 新建 | G12: 2019 | H12: 新建廊道2座，闸阀井2座，引水管1913m,更换管道1106m,检查井1座。排气井1座，减压井2座，30t蓄水池1座。入户管90m,入户供水井3座。 | I12: 21.388324
A13: 2 | B13: 昂思多镇 | I13: =SUM(I14:I23) -> 371.51944
A14: 2.1 | B14: 牙什扎村 | F14: 改造 | G14: 2016 | H14: 维修分水井1座、闸阀井3座，φ50UPVC管1.0km | I14: 9.6365515
A15: 2.2 | B15: 尕什加村 | F15: 改造 | G15: 2016 | H15: 维修φ40UPVC管1.5km，φ50UPVC管0.5km | I15: 10.05901
A16: 2.3 | B16: 玉麦街村 | F16: 新建 | G16: 2016 | H16: 新建30T蓄水池1座，闸阀井7座，引水口1座，主管2.018km，支管3条共1.5km | I16: 25.930421
A17: 2.4 | B17: 洛忙村 | F17: 新建 | G17: 2017 | H17: 修建管道500米，入户井18座。 | I17: 10.24384
A18: 2.5 | B18: 吾则塘村 | F18: 新建 | G18: 2017 | H18: 修建管道5公里，供水井14座。 | I18: 41.017979
A19: 2.6 | B19: 关相口村 | F19: 新建 | G19: 2017 | H19: 修建管道5.5公里，入户井18座。 | I19: 52.626123
A20: 2.7 | B20: 玉麦街村 | F20: 新建 | G20: 2017 | H20: 引水口1座，引水管2018m,30T蓄水池1座，干管386m,分水井6座。支管1500m,检查井1座。入户管990m,入户供水井18座，入户供水井24座。 | I20: 27.076728
A21: 2.8 | B21: 若么岭、香加岭村 | F21: 新建 | G21: 2018 | H21: 廊道1座，闸阀井1座，引水管5.97公里，引水管钢管1.92公里，主管0.81公里，主管钢管0.99公里先群村支管4.91公里，支管3.8公里，分水井4座，检查井3座，排气井1座，排水井1座，10t蓄水池2座，20t蓄水池2座。公拜岭村入户管4.38公里，入户供水井146座。 | I21: 141.72205
A22: 2.9 | B22: 尕吾堂村 | F22: 新建 | G22: 2019 | H22: 新建管道4642m。 | I22: 21.556202
A23: 2.1 | B23: 先群村 | F23: 新建 | G23: 2019 | H23: 入户管4920m,入户供水井164座。 | I23: 31.650537
A24: 3 | B24: 巴燕镇 | I24: =SUM(I25:I34) -> 291.42235
A25: 3.1 | B25: 后沟村 | F25: 改造 | G25: 2016 | H25: 维修放空井1座、分水井1座，φ50UPVC管0.25km | I25: 10.306056
A26: 3.2 | B26: 上吾具村 | F26: 改造 | G26: 2016 | H26: 维修闸阀井2座，φ40UPVC管1.2km、φ500UPVC排水管0.1km | I26: 18.731705
A27: 3.3 | B27: 什杰列村 | F27: 改造 | G27: 2016 | H27: 维修闸阀井4座，φ63UPVC管0.8km | I27: 15.696049
A28: 3.4 | B28: 上拉干村 | F28: 新建 | G28: 2017 | H28: 修建50吨蓄水池1座，入户井24座。 | I28: 13.039605
A29: 3.5 | B29: 克麻村 | F29: 新建 | G29: 2017 | H29: 修建50吨蓄水池1座，闸阀井2座，入户井31座。管道1.3公里。 | I29: 30.883564
A30: 3.6 | B30: 上圈村 | F30: 新建 | G30: 2017 | H30: 修建引水泉室3座，50吨蓄水池1座。入户井31座。 | I30: 48.848348
A31: 3.7 | B31: 金家庄村 | F31: 新建 | G31: 2017 | H31: 修建引水口1座，各类井16座。200吨蓄水池1座，20吨蓄水池1座，管道5.35公里。入户井114座。 | I31: 104.98535
A32: 3.8 | B32: 马场村 | F32: 新建 | G32: 2017 | H32: 修建各类井2座，管道2.7公里，入户井32座。 | I32: 28.803202
A33: 3.9 | B33: 东下村 | F33: 改造 | G33: 2018 | H33: 更换及延长管道合计2087m，管道建筑物1座。 | I33: 12.090613
A34: 3.1 | B34: 东上村 | F34: 改造 | G34: 2018 | H34: 更换及延长管道合计1364m，管道建筑物1座。 | I34: 8.037853
A35: 4 | B35: 查甫乡 | I35: =SUM(I36:I38) -> 41.876956
A36: 4.1 | B36: 窑洞村 | F36: 改造 | G36: 2016 | H36: 维修闸阀井1座，φ75UPVC管0.5km,φ32UPVC管0.1km,φ25UPVC管0.6km,0.01km截流1座，0.04km防护墙 | I36: 24.260215
A37: 4.2 | B37: 加斜村 | F37: 改造 | G37: 2017 | H37: 修建截水廊道1座，阀门井1座。入户井10座。 | I37: 15.382341
A38: 4.3 | B38: 东台村 | F38: 改造 | G38: 2018 | H38: 更换及延长管道合计300m，蓄水池1座。 | I38: 2.2344
A39: 5 | B39: 初麻乡 | I39: =SUM(I40:I44) -> 284.76413
A40: 5.1 | B40: 初一村 | F40: 改造 | G40: 2016 | H40: 维修闸阀井1座，φ63UPVC管1.0km,φ40UPVC管0.5km | I40: 17.695909
...

Sheet 文化惠民
A1: 化隆县“十三五”脱贫攻坚规划教育扶持专项工程建设项目及投资表
A2: 序号 | B2: 乡（镇）、村名 | C2: 是否贫困村 | D2: 项目受益贫困户 | F2: 建设性质 | G2: 建设年限 | H2: 规划内容与规模 | I2: 投资（万元）
D3: 户数 | E3: 人数
A4: 全县合计 | I4: =I5+I19+I23+I29+I33+I36+I40 -> 6665.7
A5: 一 | B5: 村级综合服务社 | H5: 新建综合服务社7个 | I5: =I6+I9+I11+I13+I15+I17 -> 210
A6: 1 | B6: 石大仓乡 | I6: =SUM(I7:I8) -> 60
A7: 1.1 | B7: 文家山村 | C7: 是 | F7: 新建 | G7: 2016 | H7: 新建综合服务社1个 | I7: 30
A8: 1.2 | B8: 沙让村 | C8: 是 | F8: 新建 | G8: 2016 | H8: 新建综合服务社1个 | I8: 30
A9: 2 | B9: 德恒隆乡 | I9: =SUM(I10) -> 30
A10: 2.1 | B10: 德一村 | C10: 是 | F10: 新建 | G10: 2017 | H10: 新建综合服务社1个 | I10: 30
A11: 3 | B11: 甘都镇 | I11: =SUM(I12) -> 30
A12: 3.1 | B12: 西滩村 | C12: 是 | F12: 新建 | G12: 2017 | H12: 新建综合服务社1个 | I12: 30
A13: 4 | B13: 扎巴镇 | I13: =SUM(I14) -> 30
A14: 4.1 | B14: 本康沟 | C14: 是 | F14: 新建 | G14: 2018 | H14: 新建综合服务社1个 | I14: 30
A15: 5 | B15: 巴燕镇 | I15: =SUM(I16) -> 30
A16: 5.1 | B16: 水乃亥村 | C16: 是 | F16: 新建 | G16: 2019 | H16: 新建综合服务社1个 | I16: 30
A17: 6 | B17: 雄先乡 | I17: =SUM(I18) -> 30
A18: 6.1 | B18: 乙么昂村 | C18: 是 | F18: 新建 | G18: 2020 | H18: 新建综合服务社1个 | I18: 30
A19: 二 | B19: 广场建设项目 | H19: 新建广场140个，建设面积不小于112000㎡。 | I19: =SUM(I20:I22) -> 3360
A20: 1 | B20: 2016年广场建设项目 | C20: 是 | F20: 新建 | G20: 2016 | H20: 新建广场33个，建设面积不小于800㎡。 | I20: =33*24 -> 792
A21: 2 | B21: 2017年广场建设项目 | C21: 是 | F21: 新建 | G21: 2017 | H21: 新建广场76个村，建设面积不小于800㎡。 | I21: =76*24 -> 1824
A22: 3 | B22: 2018年广场建设项目 | C22: 是 | F22: 新建 | G22: 2018 | H22: 新建广场31个村，建设面积不小于800㎡。 | I22: =24*31 -> 744
A23: 三 | B23: 文化活动室建设项目 | H23: 新建文化活动室21个，涉及21个村，建设总面积2520㎡；维修文化活动室25个，涉及25个村，维修总面积3000㎡ | I23: =SUM(I24:I28) -> 1104
A24: 1 | B24: 2016年文化活动室新建项目 | C24: 是 | F24: 新建 | G24: 2016 | H24: 新建文化活动室9个，涉及9个村，每个120㎡ | I24: =9*24 -> 216
A25: 2 | B25: 2016年文化活动室维修项目 | C25: 是 | F25: 维修 | G25: 2016 | H25: 维修文化活动室13个，涉及13个村，维修面积每个120㎡ | I25: =13*24 -> 312
A26: 3 | B26: 2017年文化活动室新建项目 | C26: 是 | F26: 新建 | G26: 2017 | H26: 新建文化活动室11个，涉及11个村，每个120㎡ | I26: =11*24 -> 264
A27: 4 | B27: 2017年文化活动室维修项目 | C27: 是 | F27: 维修 | G27: 2017 | H27: 维修文化活动室12个，涉及12个村，维修面积每个120㎡ | I27: =12*24 -> 288
A28: 5 | B28: 2018年文化活动室新建项目 | C28: 是 | F28: 新建 | G28: 2018 | H28: 新建文化活动室1个，涉及1个村，120㎡ | I28: 24
A29: 四 | B29: 文化宣传栏建设项目 | H29: 新建铁质宣传栏133个，涉及133个村 | I29: =SUM(I30:I32) -> 66.5
A30: 1 | B30: 2016年宣传栏建设项目 | C30: 是 | F30: 新建 | G30: 2016 | H30: 新建铁质宣传栏13个，涉及13个村 | I30: =13*0.5 -> 6.5
A31: 2 | B31: 2017年宣传栏建设项目 | C31: 是 | F31: 新建 | G31: 2017 | H31: 新建铁质宣传栏101个，涉及101个村 | I31: =101*0.5 -> 50.5
A32: 3 | B32: 2018年宣传栏建设项目 | C32: 是 | F32: 新建 | G32: 2018 | H32: 新建铁质宣传栏19个，涉及19个村 | I32: =19*0.5 -> 9.5
A33: 五 | B33: 配发健身器材 | I33: =SUM(I34:I35) -> 1019.2
A34: 1 | B34: 2017年配发健身器材 | C34: 是 | F34: 新建 | G34: 2017 | H34: 涉及183个村，配发健身器材183套 | I34: =183*4.9 -> 896.7
A35: 2 | B35: 2018年配发健身器材 | C35: 是 | F35: 新建 | G35: 2018 | H35: 涉及25个村，配发建设器材25套 | I35: =25*4.9 -> 122.5
A36: 六 | B36: 乡村文化舞台建设项目 | H36: 涉及97个村，建设舞台97座，建设14550㎡ | I36: =SUM(I37:I39) -> 156
A37: 1 | B37: 2016乡村文化舞台建设项目 | C37: 是 | F37: 新建 | G37: 2016 | H37: 涉及25个村，建设舞台25座，每座150㎡ | I37: =3*25 -> 75
A38: 2 | B38: 2017乡村文化舞台建设项目 | C38: 是 | F38: 新建 | G38: 2017 | H38: 涉及61个村，建设舞台61座，每座150㎡ | I38: =16*3 -> 48
A39: 3 | B39: 2018乡村文化舞台建设项目 | C39: 是 | F39: 新建 | G39: 2018 | H39: 涉及11个村，建设舞台11座，每座150㎡ | I39: =11*3 -> 33
A40: 七 | B40: 农（牧）家书屋配发图书项目 | I40: =SUM(I41:I46) -> 750
...

Sheet 电子商务
A1: 化隆县“十三五”脱贫攻坚规划电子商务和市场体系扶贫专项工程建设项目及投资表
A2: 序号 | B2: 乡（镇）、村名 | C2: 项目受益贫困户 | E2: 建设性质 | F2: 建设年限 | G2: 规划内容与规模 | H2: 投资（万元）
C3: 户数 | D3: 人数
A4: 全县合计 | H4: =SUM(H5:H8) -> 728
A5: 1 | B5: 电子商务拉面电商服务中心 | E5: 新建 | F5: 2016 | G5: 建设电子商务拉面电商服务中心 | H5: 500
A6: 2 | B6: 17个乡镇服务中心 | E6: 新建 | F6: 2016 | G6: 建设17个乡镇服务中心房 | H6: 50
A7: 3 | B7: 66个村级服务点 | E7: 新建 | F7: 2016 | G7: 建设66个村级服务中心； | H7: 30
A8: 4 | B8: 296个村级服务点 | E8: 新建 | F8: 2018 | G8: 实施建设296个村级服务中心 | H8: 148

Sheet 通信
A1: 化隆县“十三五”脱贫攻坚通信建设项目及投资表
A2: 序号 | B2: 项目名称 | C2: 项目受益贫困户 | D2: 建设性质 | E2: 建设年限 | F2: 规划内容与规模 | G2: 投资（万元）
A3: 全县合计 | G3: =SUM(G4:G8) -> 4822.73
A4: 1 | B4: 联通公司用户补贴项目 | C4: 26148 | E4: 2016 | F4: 补贴家庭宽带、无线宽带、流量包及话费套餐资费 | G4: 928.41
A5: 2 | B5: 联通公司用户补贴项目 | C5: 26148 | E5: 2017 | F5: 补贴家庭宽带、无线宽带、流量包及话费套餐资费 | G5: 928.41
A6: 3 | B6: 联通公司用户补贴项目 | C6: 26148 | E6: 2018 | F6: 补贴家庭宽带、无线宽带、流量包及话费套餐资费 | G6: 928.41
A7: 4 | B7: 联通公司用户补贴项目 | C7: 26148 | E7: 2019 | F7: 补贴家庭宽带、无线宽带、流量包及话费套餐资费 | G7: =871.2+56.44+45.73+12.94+32.44 -> 1018.75
A8: 5 | B8: 联通公司用户补贴项目 | C8: 26148 | E8: 2020 | F8: 补贴家庭宽带、无线宽带、流量包及话费套餐资费 | G8: =871.2+56.44+45.73+12.94+32.44 -> 1018.75

Sheet 卫生
A1: 化隆县“十三五”脱贫攻坚医疗保障和救助建设项目及投资表
A2: 序号 | B2: 乡、村名 | C2: 是否贫困村 | D2: 项目受益贫困户 | F2: 建设性质 | G2: 建设年限 | H2: 规划内容与规模 | I2: 投资（万元）
D3: 户数 | E3: 人数
A4: 全县合计 | I4: =I5+I19+I34+I42+I49+I57+I64+I73+I79+I90+I98+I103+I111+I122+I138+I146+I153+I159+I161 -> 581.5
A5: 一 | B5: 巴燕镇 | I5: =SUM(I6:I18) -> 55.8
A6: 1 | B6: 下吾具村 | F6: 新建 | G6: 2016 | H6: 配备血压计、病床、办公桌、电脑等17种医疗及办公设备 | I6: 2
A7: 2 | B7: 什杰列村 | F7: 改扩建维修 | G7: 2016 | H7: 卫生室业务用房维修及配备血压计、病床、办公桌、电脑等17种医疗及办公设备 | I7: 6.5
A8: 3 | B8: 下山根村 | F8: 新建 | G8: 2017 | H8: 配备血压计、病床、办公桌、电脑等17种医疗及办公设备 | I8: 2
A9: 4 | B9: 上拉干村 | F9: 新建 | G9: 2017 | H9: 配备血压计、病床、办公桌、电脑等17种医疗及办公设备 | I9: 2
A10: 5 | B10: 上卷村 | F10: 改扩建维修 | G10: 2017 | H10: 卫生室业务用房维修及配备血压计、病床、办公桌、电脑等17种医疗及办公设备 | I10: 10.3
A11: 6 | B11: 克麻村 | F11: 新建 | G11: 2017 | H11: 配备血压计、病床、办公桌、电脑等17种医疗及办公设备 | I11: 2
A12: 7 | B12: 金家庄村 | F12: 新建 | G12: 2017 | H12: 配备血压计、体温计、消毒车、治疗车、诊查床、病床、药品柜、档案柜、办公桌、电脑、打印机等17种医疗及办公设备 | I12: 2
A13: 8 | B13: 卜隆村 | F13: 新建 | G13: 2018 | H13: 配备血压计、病床、办公桌、电脑等17种医疗及办公设备 | I13: 8
A14: 9 | B14: 上吾具村 | F14: 新建 | G14: 2018 | H14: 配备血压计、病床、办公桌、电脑等17种医疗及办公设备 | I14: 7
A15: 10 | B15: 东上村 | F15: 改扩建维修 | G15: 2018 | H15: 卫生室业务用房维修、扩建，配备血压计、病床、办公桌、电脑等17种医疗及办公设备 | I15: 2
A16: 11 | B16: 东下村 | F16: 新建 | G16: 2018 | H16: 配备血压计、病床、办公桌、电脑等17种医疗及办公设备 | I16: 2
A17: 12 | B17: 水乃亥村 | F17: 改扩建维修 | G17: 2019 | H17: 卫生室业务用房维修、扩建，配备血压计、病床、办公桌、电脑等17种医疗及办公设备 | I17: 10
A18: 13 | B18: 马场村 | G18: 2019
A19: 二 | B19: 昂思多镇 | I19: =SUM(I20:I33) -> 82
A20: 1 | B20: 牙什扎村 | F20: 改扩建维修 | G20: 2016 | H20: 卫生室业务用房维修及配备血压计、病床、办公桌、电脑等17种医疗及办公设备 | I20: 6.5
A21: 2 | B21: 尕什加村 | F21: 改扩建维修 | G21: 2016 | H21: 卫生室业务用房维修及配备血压计、病床、办公桌、电脑等17种医疗及办公设备 | I21: 1.5
A22: 3 | B22: 关相口村 | F22: 新建 | G22: 2017 | H22: 配备血压计、病床、办公桌、电脑等17种医疗及办公设备 | I22: 2
A23: 4 | B23: 吾则塘村 | F23: 改扩建维修 | G23: 2017 | H23: 卫生室业务用房维修及配备血压计、病床、办公桌、电脑等17种医疗及办公设备 | I23: 6
A24: 5 | B24: 玉麦街村 | F24: 新建 | G24: 2017 | H24: 配备血压计、病床、办公桌、电脑等17种医疗及办公设备 | I24: 2
A25: 6 | B25: 洛忙村 | F25: 新建 | G25: 2017 | H25: 配备血压计、病床、办公桌、电脑等17种医疗及办公设备 | I25: 2
A26: 7 | B26: 山卡拉 | F26: 改扩建维修 | G26: 2018 | H26: 卫生室业务用房维修、扩建，配备血压计、病床、办公桌、电脑等17种医疗及办公设备 | I26: 7
A27: 8 | B27: 具乎扎拉 | F27: 新建 | G27: 2018 | H27: 配备血压计、病床、办公桌、电脑等17种医疗及办公设备 | I27: 7
A28: 9 | B28: 公拜岭拉 | F28: 改扩建维修 | G28: 2018 | H28: 卫生室业务用房维修、扩建，配备血压计、病床、办公桌、电脑等17种医疗及办公设备 | I28: 7
A29: 10 | B29: 香加岭拉 | F29: 改扩建维修 | G29: 2018 | H29: 卫生室业务用房维修、扩建，配备血压计、病床、办公桌、电脑等17种医疗及办公设备 | I29: 7
A30: 11 | B30: 若么岭拉 | F30: 改扩建维修 | G30: 2018 | H30: 卫生室业务用房维修、扩建，配备血压计、病床、办公桌、电脑等17种医疗及办公设备 | I30: 7
A31: 12 | B31: 拉昂拉 | F31: 改扩建维修 | G31: 2018 | H31: 卫生室业务用房维修、扩建，配备血压计、病床、办公桌、电脑等17种医疗及办公设备 | I31: 7
... A33: 14 | B33: 先群拉 | F33: 改扩建维修 | G33: 2019 | H33: 卫生室业务用房维修、扩建，配备血压计、病床、办公桌、电脑等17种医疗及办公设备 | I33: 10
A34: 三 | B34: 初麻乡 | I34: =SUM(I35:I41) -> 18.5
A35: 1 | B35: 初一村 | F35: 改扩建维修 | G35: 2016 | H35: 卫生室业务用房维修及配备血压计、病床、办公桌、电脑等17种医疗及办公设备 | I35: 1.5
A36: 2 | B36: 安具乎村 | F36: 新建 | G36: 2017 | H36: 配备血压计、病床、办公桌、电脑等17种医疗及办公设备 | I36: 2
A37: 3 | B37: 塔麻村 | F37: 新建 | G37: 2017 | H37: 配备血压计、病床、办公桌、电脑等17种医疗及办公设备 | I37: 2
A38: 4 | B38: 安关村 | F38: 新建 | G38: 2017 | H38: 配备血压计、病床、办公桌、电脑等18种医疗及办公设备 | I38: 2
A39: 5 | B39: 安关村 | F39: 新建 | G39: 2018 | H39: 配备血压计、病床、办公桌、电脑等17种医疗及办公设备 | I39: 2
A40: 6 | B40: 滩果村 | F40: 改扩建维修 | G40: 2018 | H40: 卫生室业务用房维修、扩建，配备血压计、病床、办公桌、电脑等17种医疗及办公设备 | I40: 7
A41: 7 | B41: 沙尔洞村 | F41: 改扩建维修 | G41: 2019 | H41: 卫生室业务用房维修、扩建，配备血压计、病床、办公桌、电脑等17种医疗及办公设备 | I41: 2
...

Sheet 金融扶持
A1: 化隆县“十三五”脱贫攻坚规划金融扶持专项工程建设项目及投资表
A2: 序号 | B2: 乡（镇）、村名 | C2: 项目受益贫困户 | E2: 建设性质 | F2: 建设年限 | G2: 规划内容与规模 | H2: 投资 （万元）
C3: 户数 | D3: 人数
A4: 全县合计 | C4: =SUM(C5:C6) -> 8564 | D4: =SUM(D5:D6) -> 5757 | H4: =SUM(H5:H6) -> 40903
A5: 1 | B5: “530”小额贷款 | C5: 2126 | D5: 5757 | E5: 新建 | F5: 2016-2017 | G5: 发放拉面贷款657户，金额2784万元。养殖贷款934户，金额3714万元。采挖虫草贷款89户，355万元。种植业贷款43户，金额146万元。其他从事铝合金加工、小百货经营类等贷款196户，金额776.5万元。 | H5: 8903
A6: 2 | B6: “530”小额扶贫贷款 | C6: 6438 | E6: 新建 | F6: 2018-2020 | G6: 对全县17个乡镇2个管委会、144个贫困村、8564户贫困户中的“三有一无”贫困户“530”小额扶贫贷款全覆盖。 | H6: 32000

Sheet 危旧房改造
A1: 化隆县“十三五”脱贫攻坚规划危房改造及美丽乡村工程建设项目及投资表
A2: 序号 | B2: 项目名称 | C2: 项目受益贫困户 | E2: 建设性质 | F2: 建设年限 | G2: 规划内容与规模 | H2: 投资 （万元）
C3: 户数 | D3: 人数
A4: 全县合计 | H4: =H5+H9 -> 42467.5
A5: 一 | B5: 危房改造项目 | C5: =SUM(C6:C8) -> 15063 | H5: =SUM(H6:H8) -> 37657.5
A6: 1 | B6: 2016年危房改造 | C6: 4070 | E6: 改造 | F6: 2016 | G6: 改造4070户危房，户均60㎡ | H6: =C6*2.5 -> 10175
A7: 2 | B7: 2017年危房改造 | C7: 6221 | E7: 改造 | F7: 2017 | G7: 改造6221户危房，户均60㎡ | H7: =C7*2.5 -> 15552.5
A8: 3 | B8: 2018年危房改造 | C8: 4772 | E8: 改造 | F8: 2018 | G8: 改造4772户危房，户均60㎡ | H8: =C8*2.5 -> 11930
A9: 二 | B9: 美丽乡村建设项目 | H9: =SUM(H10:H12) -> 4810
A10: 1 | B10: 2016年美丽乡村建设项目 | E10: 新建 | F10: 2016 | G10: 规划建设30个村。主要建设广场、箭场、农户大门、农户砖墙、村内小砖墙、铁艺 | H10: 3380
A11: 2 | B11: 2017年美丽乡村建设项目 | E11: 新建 | F11: 2017 | G11: 规划建设9个村。主要建设广场、箭场、农户大门、农户砖墙、村内小砖墙、铁艺 | H11: 1170
A12: 3 | B12: 2018年美丽乡村建设项目 | E12: 新建 | F12: 2018 | G12: 规划建设2个村。主要建设广场、箭场、农户大门、农户砖墙、村内小砖墙、铁艺 | H12: 260

Sheet 总表
A1: 化隆县“十三五”脱贫攻坚规划投资汇总表
A2: 序号 | B2: 项目名称 | C2: 投资（万元）
C3: 合计 | D3: 财政资金 | E3: 行业资金 | F3: 金融资金
A4: 一 | B4: “八个一批”专项行动计划 | C4: =SUM(C5:C12) -> #REF! | D4: =SUM(D5:D12) -> 50141.841 | E4: =SUM(E5:E12) -> #REF! | F4: =SUM(F5:F12) -> 0 | G4: =C4/C24 -> #REF!
A5: 1 | B5: 发展产业脱贫一批 | C5: ='产业扶持'!H4 -> 13553.23 | D5: =C5 -> 13553.23
A6: 2 | B6: 资产收益脱贫一批 | C6: ='资产收益'!H4 -> 8160.82 | D6: =C6 -> 8160.82
A7: 3 | B7: 转移就业脱贫一批 | C7: ='转移就业'!H4 -> 14612.88 | D7: ='转移就业'!H5+'转移就业'!H10+'转移就业'!H15 -> 9310 | E7: ='转移就业'!H20 -> 5302.88
A8: 4 | B8: 易地搬迁脱贫一批 | C8: ='易地搬迁'!I4 -> 19117.791 | D8: =C8 -> 19117.791
A9: 5 | B9: 教育支持脱贫一批 | C9: =#REF! -> #REF! | E9: =C9 -> #REF!
A10: 6 | B10: 医疗救助脱贫一批
A11: 7 | B11: 生态保护脱贫一批 | C11: ='林业生态'!F4 -> 4204.88 | E11: =C11 -> 4204.88
A12: 8 | B12: 低保兜底脱贫一批 | C12: ='低保兜底'!H4 -> 22693.123 | E12: =C12 -> 22693.123
A13: 二 | B13: “十个行业”专项扶贫工程 | C13: =SUM(C14:C23) -> #REF! | D13: =SUM(D14:D23) -> 0 | E13: =SUM(E14:E23) -> #REF! | F13: =SUM(F14:F23) -> #REF! | G13: =C13/C24 -> #REF!
A14: 1 | B14: 交通扶贫专项工程 | C14: =#REF! -> #REF! | E14: =#REF! -> #REF! | F14: =#REF! -> #REF!
A15: 2 | B15: 水利扶贫专项工程 | C15: ='水利'!I4 -> 11708.433 | E15: =C15 -> 11708.433
A16: 3 | B16: 电力扶贫专项工程 | C16: =#REF! -> #REF! | E16: =C16 -> #REF!
A17: 4 | B17: 医疗卫生扶贫专项工程 | C17: ='卫生'!I4 -> 581.5 | E17: =C17 -> 581.5
A18: 5 | B18: 通信扶贫专项工程 | C18: ='通信'!G3 -> 4822.73 | E18: =C18 -> 4822.73
A19: 6 | B19: 文化惠民扶贫专项工程 | C19: ='文化惠民'!I4 -> 6665.7 | E19: =C19 -> 6665.7
A20: 7 | B20: 金融扶贫专项工程 | C20: ='金融扶持'!H4 -> 40903 | F20: =C20 -> 40903
A21: 8 | B21: 科技扶贫专项工程
A22: 9 | B22: 电子商务和市场体系 | C22: ='电子商务'!H4 -> 728 | E22: =C22 -> 728
A23: 10 | B23: 危旧房改造扶贫专项工程 | C23: ='危旧房改造'!H4 -> 42467.5 | E23: =C23 -> 42467.5
A24: 总计 | C24: =C4+C13 -> #REF! | D24: =D4+D13 -> 50141.841 | E24: =E4+E13 -> #REF! | F24: =F4+F13 -> #REF!
D25: =D24/C24 -> #REF! | E25: =E24/C24 -> #REF! | F25: =F24/C24 -> #REF!

Sheet 分年度投资表
A1: 化隆县“十三五”脱贫攻坚规划分年度估算表
A2: 序号 | B2: 项目名称 | C2: 合计 | D2: 2016年 | E2: 2017年 | F2: 2018年 | G2: 2019年 | H2: 2020年
A3: 一 | B3: “八个一批”专项行动计划 | C3: =SUM(D3:H3) -> 89949.799 | D3: =SUM(D4:D11) -> 22656.804 | E3: =SUM(E4:E11) -> 28551.655 | F3: =SUM(F4:F11) -> 19483.24 | G3: =SUM(G4:G11) -> 13010 | H3: =SUM(H4:H11) -> 6248.1
A4: 1 | B4: 发展产业脱贫一批 | C4: =SUM(D4:H4) -> 13553.23 | D4: 662.1 | E4: 2607.42 | F4: 7174.39 | G4: 3109.32
A5: 2 | B5: 资产收益脱贫一批 | C5: =SUM(D5:H5) -> 8160.82 | D5: 4122.82 | E5: 2990.4 | F5: 847.8 | G5: 199.8
A6: 3 | B6: 转移就业脱贫一批 | C6: =SUM(D6:H6) -> 14612.88 | D6: 2595.68 | E6: 3735.68 | F6: 3413.84 | G6: 3493.84 | H6: 1373.84
A7: 4 | B7: 易地搬迁脱贫一批 | C7: =SUM(D7:H7) -> 21448 | D7: 10203.5 | E7: 10436 | F7: 808.5
A8: 5 | B8: 教育支持脱贫一批 | C8: =SUM(D8:H8) -> 5276.866 | D8: 745.806 | E8: 2009.7 | F8: 1167.36 | G8: 942 | H8: 412
A9: 6 | B9: 医疗救助脱贫一批 | C9: =SUM(D9:H9) -> 0
A10: 7 | B10: 生态保护脱贫一批 | C10: =SUM(D10:H10) -> 4204.88 | D10: 90 | E10: 2057.07 | F10: 1255.03 | G10: 802.78
A11: 8 | B11: 低保兜底脱贫一批 | C11: =SUM(D11:H11) -> 22693.123 | D11: ='低保兜底'!H5 -> 4236.898 | E11: ='低保兜底'!H6 -> 4715.385 | F11: ='低保兜底'!H7 -> 4816.32 | G11: ='低保兜底'!H8 -> 4462.26 | H11: ='低保兜底'!H9 -> 4462.26
A12: 二 | B12: “十个行业”专项扶贫工程 | C12: =SUM(C13:C22) -> 137504.08 | D12: =SUM(D13:D22) -> 26732.825 | E12: =SUM(E13:E22) -> 39713.678 | F12: =SUM(F13:F22) -> 47228.892 | G12: =SUM(G13:G22) -> 12113.273 | H12: =SUM(H13:H22) -> 11715.417
A13: 1 | B13: 交通扶贫专项工程 | C13: =SUM(D13:H13) -> 6205.489 | D13: 882.546 | E13: 2426.518 | F13: 2896.425
A14: 2 | B14: 水利扶贫专项工程 | C14: =SUM(D14:H14) -> 11708.433 | D14: 1212.0896 | E14: 5602.9335 | F14: 4645.5541 | G14: 247.85627
A15: 3 | B15: 电力扶贫专项工程 | C15: =SUM(D15:H15) -> 23421.732 | D15: 3357.7796 | E15: 5622.1166 | F15: 14441.836
A16: 4 | B16: 医疗卫生扶贫专项工程 | C16: =SUM(D16:H16) -> 581.5 | D16: 54 | E16: 130.5 | F16: 247 | G16: 150
A17: 5 | B17: 通信扶贫专项工程 | C17: =SUM(D17:H17) -> 4822.73 | D17: 928.41 | E17: 928.41 | F17: 928.41 | G17: 1018.75 | H17: 1018.75
A18: 6 | B18: 文化惠民扶贫专项工程 | C18: =SUM(D18:H18) -> 6665.7 | D18: 1711.5 | E18: 3681.2 | F18: 1213 | G18: 30 | H18: 30
A19: 7 | B19: 金融扶贫专项工程 | C19: =SUM(D19:H19) -> 40903 | D19: 4451.5 | E19: 4451.5 | F19: 10666.667 | G19: 10666.667 | H19: 10666.667
A20: 8 | B20: 科技扶贫专项工程 | C20: =SUM(D20:H20) -> 0
A21: 9 | B21: 电子商务和市场体系 | C21: =SUM(D21:H21) -> 728 | D21: 580 | E21: 148
A22: 10 | B22: 危旧房改造扶贫专项工程 | C22: =SUM(D22:H22) -> 42467.5 | D22: 13555 | E22: 16722.5 | F22: 12190
A23: 总计 | C23: =C3+C12 -> 227453.88 | D23: =D3+D12 -> 49389.629 | E23: =E3+E12 -> 68265.333 | F23: =F3+F12 -> 66712.132 | G23: =G3+G12 -> 25123.273 | H23: =H3+H12 -> 17963.517
D24: =D23/C23 -> 0.21714129 | E24: =E23/C23 -> 0.30012824 | F24: =F23/C23 -> 0.29329959 | G24: =G23/C23 -> 0.11045436 | H24: =H23/C23 -> 0.078976522

Sheet 脱贫计划
A1: 化隆县脱贫攻坚规划分年度贫困村退出、贫困人口脱贫计划表
A2: 年度 | B2: 退出贫困村数 | C2: 脱贫人口
C3: 户数 | D3: 人数
A4: 2016年 | B4: 27 | C4: 1953 | D4: 7212
A5: 2017年 | B5: 42 | C5: 3205 | D5: 11671
A6: 2018年 | B6: 51 | C6: 2138 | D6: 8714
A7: 2019年 | B7: 21 | C7: 2345 | D7: 8730
A8: 总计 | B8: =SUM(B4:B7) -> 141 | C8: =SUM(C4:C7) -> 9641 | D8: =SUM(D4:D7) -> 36327
F24: 228348
F25: 92613
F27: =F25/F24 -> 0.40557833

Sheet 两线合一统计表
A1: 化隆县贫困户统计表
A2: 序号 | B2: 乡、村 | C2: 是否贫困村 | D2: 总户数 | E2: 总人数 | F2: 一般贫困户 | H2: 低保贫困户 | J2: 低保户
F3: 户数 | G3: 人数 | H3: 户数 | I3: 人数 | J3: 户数 | K3: 人数
A4: 全县合计 | D4: 9641 | E4: 36327 | F4: =F5+F22+F55+F94+F107+F124+F146+F164+F190+F194+F209+F211+F241+F254+F272+F282+F301+F326+F347 -> 5554 | G4: =G5+G22+G55+G94+G107+G124+G146+G164+G190+G194+G209+G211+G241+G254+G272+G282+G301+G326+G347 -> 21638 | H4: =H5+H22+H55+H94+H107+H124+H146+H164+H190+H194+H209+H211+H241+H254+H272+H282+H301+H326+H347 -> 1991 | I4: =I5+I22+I55+I94+I107+I124+I146+I164+I190+I194+I209+I211+I241+I254+I272+I282+I301+I326+I347 -> 7627 | J4: =J5+J22+J55+J94+J107+J124+J146+J164+J190+J194+J209+J211+J241+J254+J272+J282+J301+J326+J347 -> 2094 | K4: =K5+K22+K55+K94+K107+K124+K146+K164+K190+K194+K209+K211+K241+K254+K272+K282+K301+K326+K347 -> 7061
A5: 一 | B5: 阿什努乡 | D5: =SUM(D6:D21) -> 292 | E5: =SUM(E6:E21) -> 1062 | F5: =SUM(F6:F21) -> 119 | G5: =SUM(G6:G21) -> 432 | H5: =SUM(H6:H21) -> 83 | I5: =SUM(I6:I21) -> 316 | J5: =SUM(J6:J21) -> 90 | K5: =SUM(K6:K21) -> 314
A6: 1 | B6: 阿藏吾具村 | D6: =F6+H6+J6 -> 11 | E6: =G6+I6+K6 -> 46 | F6: 4 | G6: 15 | H6: 3 | I6: 13 | J6: 4 | K6: 18
A7: 2 | B7: 列仁村 | D7: =F7+H7+J7 -> 7 | E7: =G7+I7+K7 -> 22 | F7: 2 | G7: 8 | H7: 3 | I7: 10 | J7: 2 | K7: 4
A8: 3 | B8: 阿二村 | D8: =F8+H8+J8 -> 28 | E8: =G8+I8+K8 -> 97 | F8: 12 | G8: 32 | H8: 6 | I8: 30 | J8: 10 | K8: 35
A9: 4 | B9: 阿一村 | D9: =F9+H9+J9 -> 19 | E9: =G9+I9+K9 -> 73 | F9: 6 | G9: 24 | H9: 5 | I9: 23 | J9: 8 | K9: 26
A10: 5 | B10: 全吉村 | D10: =F10+H10+J10 -> 32 | E10: =G10+I10+K10 -> 111 | F10: 9 | G10: 35 | H10: 12 | I10: 44 | J10: 11 | K10: 32
A11: 6 | B11: 若兰村 | D11: =F11+H11+J11 -> 9 | E11: =G11+I11+K11 -> 34 | F11: 3 | G11: 11 | H11: 3 | I11: 11 | J11: 3 | K11: 12
A12: 7 | B12: 白加村 | D12: =F12+H12+J12 -> 14 | E12: =G12+I12+K12 -> 61 | F12: 4 | G12: 19 | H12: 6 | I12: 24 | J12: 4 | K12: 18
A13: 8 | B13: 拉卡村 | D13: =F13+H13+J13 -> 30 | E13: =G13+I13+K13 -> 109 | F13: 16 | G13: 62 | H13: 6 | I13: 22 | J13: 8 | K13: 25
A14: 9 | B14: 俄加村 | D14: =F14+H14+J14 -> 19 | E14: =G14+I14+K14 -> 58 | F14: 7 | G14: 17 | H14: 7 | I14: 23 | J14: 5 | K14: 18
A15: 10 | B15: 尕加村 | D15: =F15+H15+J15 -> 15 | E15: =G15+I15+K15 -> 68 | F15: 5 | G15: 22 | H15: 5 | I15: 22 | J15: 5 | K15: 24
A16: 11 | B16: 刘什洞村 | D16: =F16+H16+J16 -> 19 | E16: =G16+I16+K16 -> 73 | F16: 11 | G16: 42 | H16: 3 | I16: 15 | J16: 5 | K16: 16
A17: 12 | B17: 纳哈隆村 | D17: =F17+H17+J17 -> 18 | E17: =G17+I17+K17 -> 66 | F17: 5 | G17: 21 | H17: 5 | I17: 18 | J17: 8 | K17: 27
... A21: 16 | B21: 羊隆村 | D21: =F21+H21+J21 -> 21 | E21: =G21+I21+K21 -> 77 | F21: 11 | G21: 41 | H21: 4 | I21: 15 | J21: 6 | K21: 21
A22: 二 | B22: 昂思多镇 | D22: =SUM(D23:D54) -> 789 | E22: =SUM(E23:E54) -> 2861 | F22: =SUM(F23:F54) -> 428 | G22: =SUM(G23:G54) -> 1564 | H22: =SUM(H23:H54) -> 179 | I22: =SUM(I23:I54) -> 682 | J22: =SUM(J23:J54) -> 182 | K22: =SUM(K23:K54) -> 615
A23: 1 | B23: 白土庄村 | D23: =F23+H23+J23 -> 15 | E23: =G23+I23+K23 -> 47 | F23: 5 | G23: 17 | H23: 4 | I23: 14 | J23: 6 | K23: 16
A24: 2 | B24: 德加村 | D24: =F24+H24+J24 -> 39 | E24: =G24+I24+K24 -> 111 | F24: 15 | G24: 43 | H24: 7 | I24: 35 | J24: 17 | K24: 33
A25: 3 | B25: 尔尕昂村 | D25: =F25+H25+J25 -> 38 | E25: =G25+I25+K25 -> 132 | F25: 12 | G25: 42 | H25: 17 | I25: 46 | J25: 9 | K25: 44
A26: 4 | B26: 尕么甫村 | D26: =F26+H26+J26 -> 39 | E26: =G26+I26+K26 -> 123 | F26: 17 | G26: 55 | H26: 9 | I26: 35 | J26: 13 | K26: 33
A27: 5 | B27: 尕什加村 | D27: =F27+H27+J27 -> 44 | E27: =G27+I27+K27 -> 141 | F27: 23 | G27: 73 | H27: 10 | I27: 32 | J27: 11 | K27: 36
A28: 6 | B28: 尕吾塘村 | D28: =F28+H28+J28 -> 28 | E28: =G28+I28+K28 -> 126 | F28: 22 | G28: 100 | H28: 3 | I28: 14 | J28: 3 | K28: 12
A29: 7 | B29: 公拜岭村 | D29: =F29+H29+J29 -> 19 | E29: =G29+I29+K29 -> 74 | F29: 14 | G29: 51 | H29: 3 | I29: 11 | J29: 2 | K29: 12
A30: 8 | B30: 公布昂村 | D30: =F30+H30+J30 -> 8 | E30: =G30+I30+K30 -> 40 | F30: 3 | G30: 16 | H30: 3 | I30: 15 | J30: 2 | K30: 9
A31: 9 | B31: 关沙村 | D31: =F31+H31+J31 -> 34 | E31: =G31+I31+K31 -> 108 | F31: 14 | G31: 43 | H31: 9 | I31: 33 | J31: 11 | K31: 32
A32: 10 | B32: 关相口村 | D32: =F32+H32+J32 -> 18 | E32: =G32+I32+K32 -> 72 | F32: 11 | G32: 44 | H32: 5 | I32: 21 | J32: 2 | K32: 7
A33: 11 | B33: 河滩庄村 | D33: =F33+H33+J33 -> 12 | E33: =G33+I33+K33 -> 37 | F33: 6 | G33: 13 | H33: 2 | I33: 12 | J33: 4 | K33: 12
A34: 12 | B34: 红二村 | D34: =F34+H34+J34 -> 15 | E34: =G34+I34+K34 -> 52 | F34: 6 | G34: 20 | H34: 6 | I34: 19 | J34: 3 | K34: 13
... A54: 32 | B54: 扎浪滩村 | D54: =F54+H54+J54 -> 29 | E54: =G54+I54+K54 -> 110 | F54: 10 | G54: 38 | H54: 10 | I54: 43 | J54: 9 | K54: 29
A55: 三 | B55: 巴燕镇 | D55: =SUM(D56:D93) -> 1270 | E55: =SUM(E56:E93) -> 4555 | F55: =SUM(F56:F93) -> 783 | G55: =SUM(G56:G93) -> 2839 | H55: =SUM(H56:H93) -> 261 | I55: =SUM(I56:I93) -> 898 | J55: =SUM(J56:J93) -> 226 | K55: =SUM(K56:K93) -> 818
A56: 1 | B56: 阿扎卜扎村 | D56: =F56+H56+J56 -> 31 | E56: =G56+I56+K56 -> 104 | F56: 13 | G56: 45 | H56: 11 | I56: 33 | J56: 7 | K56: 26
A57: 2 | B57: 北街村 | D57: =F57+H57+J57 -> 29 | E57: =G57+I57+K57 -> 104 | F57: 13 | G57: 52 | H57: 10 | I57: 34 | J57: 6 | K57: 18
A58: 3 | B58: 卜隆村 | D58: =F58+H58+J58 -> 25 | E58: =G58+I58+K58 -> 79 | F58: 14 | G58: 45 | H58: 6 | I58: 17 | J58: 5 | K58: 17
A59: 4 | B59: 藏滩村 | D59: =F59+H59+J59 -> 27 | E59: =G59+I59+K59 -> 114 | F59: 15 | G59: 62 | H59: 6 | I59: 24 | J59: 6 | K59: 28
A60: 5 | B60: 缠么村 | D60: =F60+H60+J60 -> 32 | E60: =G60+I60+K60 -> 103 | F60: 23 | G60: 78 | H60: 4 | I60: 15 | J60: 5 | K60: 10
A61: 6 | B61: 东上村 | D61: =F61+H61+J61 -> 27 | E61: =G61+I61+K61 -> 83 | F61: 20 | G61: 62 | H61: 3 | I61: 10 | J61: 4 | K61: 11
A62: 7 | B62: 东下村 | D62: =F62+H62+J62 -> 33 | E62: =G62+I62+K62 -> 91 | F62: 22 | G62: 54 | H62: 5 | I62: 17 | J62: 6 | K62: 20
...

Sheet Sheet1
A4: 发展目标 | C4: 类 别 | D4: 指 标 | E4: 单位 | F4: 2019年 | G4: 2020年 | H4: 备注
A5: 具体发展目标 | B5: 减贫目标 | C5: 贫困人口 | D5: 现行扶贫标准下贫困人口 | E5: 人 | F5: 36327人全部脱贫 | G5: 巩固提升 | H5: 约束性
C6: 贫困村 | D6: 建档立卡贫困村 | E6: 个 | F6: 144个贫困村全部退出 | G6: 巩固提升 | H6: 约束性
C7: 贫困县 | D7: 国家、省级扶贫开发工作重点县和片区县数量 | E7: 个 | F7: 摘帽 | G7: 巩固提升 | H7: 约束性
C8: 收入 | D8: 贫困农牧民人均可支配收入 | E8: 元 | F8: 4000 | G8: 巩固提升 | H8: 预期性
B9: 基础设施 | C9: 交通 | D9: 贫困村道路通畅率 | E9: % | F9: 100 | G9: 巩固提升 | H9: 约束性
D10: 贫困村通班车比率 | E10: % | F10: 95 | H10: 预期性
C11: 饮水 | D11: 贫困村自来水普及率 | E11: % | F11: 100 | H11: 预期性
D12: 贫困村集中供水率 | E12: % | F12: 100 | G12: 巩固提升 | H12: 预期性
B13: 基本公共服务 | C13: 教育 | D13: 贫困地区义务教育巩固率 | E13: % | F13: 93 | G13: 95 | H13: 约束性
D14: 15岁以上平均受教育年限 | E14: 年 | F14: 10 | G14: 10 | H14: 预期性
C15: 文化 | D15: 贫困户通广播电视率 | E15: % | F15: 100 | G15: 巩固提升 | H15: 预期性
C16: 信息化 | D16: 贫困自然村通宽带（含有线和无线）比率 | E16: % | F16: 100 | G16: 巩固提升 | H16: 预期性
B17: 社会保障 | C17: 养老保险 | D17: 贫困户参加新型农村社会养老保险比率 | E17: % | F17: 100 | G17: 巩固提升 | H17: 预期性
C18: 医疗 | D18: 贫困户新农村合作医疗参与率 | E18: % | F18: 100 | G18: 巩固提升 | H18: 预期性
B19: 安居 | C19: 住房 | D19: 建档立卡贫困户危房改造率 | E19: % | F19: 100 | G19: 巩固提升 | H19: 约束性
C20: 易地搬迁 | D20: 易地搬迁贫困人口数量 | E20: 人 | F20: 3268 | H20: 约束性
B21: 发展产业 | C21: 有劳动能力贫困户参与增收项目比率 | E21: % | F21: 100 | G21: 巩固提升 | H21: 预期性
C22: 每个贫困家庭掌握技能 | E22: 门 | F22: 1 | G22: 巩固提升 | H22: 预期性
